BEGIN:VCALENDAR
VERSION:2.0
PRODID:-//Petri Räisänen - ECPv6.15.11//NONSGML v1.0//EN
CALSCALE:GREGORIAN
METHOD:PUBLISH
X-WR-CALNAME:Petri Räisänen
X-ORIGINAL-URL:https://petriraisanen.com
X-WR-CALDESC:Events for Petri Räisänen
REFRESH-INTERVAL;VALUE=DURATION:PT1H
X-Robots-Tag:noindex
X-PUBLISHED-TTL:PT1H
BEGIN:VTIMEZONE
TZID:UTC
BEGIN:STANDARD
TZOFFSETFROM:+0000
TZOFFSETTO:+0000
TZNAME:UTC
DTSTART:20180101T000000
END:STANDARD
END:VTIMEZONE
BEGIN:VEVENT
DTSTART;VALUE=DATE:20190906
DTEND;VALUE=DATE:20190909
DTSTAMP:20260421T013142
CREATED:20180102T152114Z
LAST-MODIFIED:20180102T152134Z
UID:8207-1567728000-1567987199@petriraisanen.com
SUMMARY:Ashtanga Yoga Basel
DESCRIPTION:Ashtanga Yoga Workshop Basel\nSeptember 6-8\, 2019 \nAshtanga Yoga Basel\nBasel\, Switzerland \nwww.ashtanga-basel.ch
URL:https://petriraisanen.com/event/ashtanga-yoga-basel/
END:VEVENT
BEGIN:VEVENT
DTSTART;VALUE=DATE:20190906
DTEND;VALUE=DATE:20190909
DTSTAMP:20260421T013142
CREATED:20180227T121038Z
LAST-MODIFIED:20190320T212113Z
UID:8457-1567728000-1567987199@petriraisanen.com
SUMMARY:Ashtanga Yoga Basel\, Switzerland\, September 6-8 2019
DESCRIPTION:September 6-8\, 2019\nAshtanga Yoga Basel \nBasel\, Switzerland \nwww.ashtanga-basel.ch
URL:https://petriraisanen.com/event/ashtanga-yoga-basel-switzerland/
CATEGORIES:Workshops
ATTACH;FMTTYPE=image/jpeg:https://petriraisanen.com/wp-content/uploads/2018/03/Petri-Manju-2003.jpg
END:VEVENT
END:VCALENDAR