BEGIN:VCALENDAR
VERSION:2.0
PRODID:-//Petri Räisänen - ECPv6.15.11//NONSGML v1.0//EN
CALSCALE:GREGORIAN
METHOD:PUBLISH
X-ORIGINAL-URL:https://petriraisanen.com
X-WR-CALDESC:Events for Petri Räisänen
REFRESH-INTERVAL;VALUE=DURATION:PT1H
X-Robots-Tag:noindex
X-PUBLISHED-TTL:PT1H
BEGIN:VTIMEZONE
TZID:UTC
BEGIN:STANDARD
TZOFFSETFROM:+0000
TZOFFSETTO:+0000
TZNAME:UTC
DTSTART:20180101T000000
END:STANDARD
END:VTIMEZONE
BEGIN:VEVENT
DTSTART;VALUE=DATE:20191017
DTEND;VALUE=DATE:20191021
DTSTAMP:20260420T213323
CREATED:20190502T122501Z
LAST-MODIFIED:20190502T122501Z
UID:9776-1571270400-1571615999@petriraisanen.com
SUMMARY:Prana Ashtanga Yoga School\, Moscow\, Russia - October 17-20 2019
DESCRIPTION:
URL:https://petriraisanen.com/event/prana-ashtanga-yoga-school-moscow-russia-october-17-20-2019/
CATEGORIES:Workshops
ATTACH;FMTTYPE=image/jpeg:https://petriraisanen.com/wp-content/uploads/2019/05/Hyvä-1-e1556803480461.jpg
END:VEVENT
END:VCALENDAR