BEGIN:VCALENDAR
VERSION:2.0
PRODID:-//Petri Räisänen - ECPv6.15.11//NONSGML v1.0//EN
CALSCALE:GREGORIAN
METHOD:PUBLISH
X-ORIGINAL-URL:https://petriraisanen.com
X-WR-CALDESC:Events for Petri Räisänen
REFRESH-INTERVAL;VALUE=DURATION:PT1H
X-Robots-Tag:noindex
X-PUBLISHED-TTL:PT1H
BEGIN:VTIMEZONE
TZID:UTC
BEGIN:STANDARD
TZOFFSETFROM:+0000
TZOFFSETTO:+0000
TZNAME:UTC
DTSTART:20180101T000000
END:STANDARD
END:VTIMEZONE
BEGIN:VEVENT
DTSTART;VALUE=DATE:20191107
DTEND;VALUE=DATE:20191111
DTSTAMP:20260420T190652
CREATED:20180508T180400Z
LAST-MODIFIED:20190502T084516Z
UID:8793-1573084800-1573430399@petriraisanen.com
SUMMARY:Delight Yoga\, Amsterdam / Den Haag\, Netherlands - November  7-8 & 9-10 2019
DESCRIPTION:The workshop will be split between two Delight Yoga Shala’s; Amsterdam and Den Haag.  \nAmsterdam workshop will be in November 7-8 2019\nwww.delightyoga.com/studio/workshops/astanga-yoga-workshopamsterdam \nDen Haag workshop will be in November 9-10 2019\nwww.delightyoga.com/studio/workshops/astanga-yoga-workshop-den-haag \nWelcome to practice the traditional Ashtanga method! \nPetri
URL:https://petriraisanen.com/event/delight-yoga-den-haag-amsterdam-netherlands-2019/
CATEGORIES:Workshops
ATTACH;FMTTYPE=image/jpeg:https://petriraisanen.com/wp-content/uploads/2018/03/Petri-Hyvä-16-600.01-686x1030.jpg
END:VEVENT
END:VCALENDAR