BEGIN:VCALENDAR
VERSION:2.0
PRODID:-//Petri Räisänen - ECPv6.15.11//NONSGML v1.0//EN
CALSCALE:GREGORIAN
METHOD:PUBLISH
X-WR-CALNAME:Petri Räisänen
X-ORIGINAL-URL:https://petriraisanen.com
X-WR-CALDESC:Events for Petri Räisänen
REFRESH-INTERVAL;VALUE=DURATION:PT1H
X-Robots-Tag:noindex
X-PUBLISHED-TTL:PT1H
BEGIN:VTIMEZONE
TZID:UTC
BEGIN:STANDARD
TZOFFSETFROM:+0000
TZOFFSETTO:+0000
TZNAME:UTC
DTSTART:20180101T000000
END:STANDARD
END:VTIMEZONE
BEGIN:VEVENT
DTSTART;VALUE=DATE:20191116
DTEND;VALUE=DATE:20191118
DTSTAMP:20260420T190611
CREATED:20190906T084826Z
LAST-MODIFIED:20190906T084826Z
UID:10152-1573862400-1574035199@petriraisanen.com
SUMMARY:Agni Way Yoga Shala\, Lagos\, Portugal\, November 16-17 2019
DESCRIPTION:Agni Way is a new Ashtanga Yoga and Holistic Massage shala in Lagos\, South Portugal. The shala’s big opening party will take place in September 15th 2019. All welcome to the beautiful Algarve region and practice Yoga.
URL:https://petriraisanen.com/event/agni-way-yoga-shala-lagos-portugal-november-16-17-2019/
CATEGORIES:Workshops
ATTACH;FMTTYPE=image/jpeg:https://petriraisanen.com/wp-content/uploads/2017/05/13439139_1023765697733569_3995142842812432198_n.jpg
END:VEVENT
END:VCALENDAR