BEGIN:VCALENDAR
VERSION:2.0
PRODID:-//Petri Räisänen - ECPv6.15.11//NONSGML v1.0//EN
CALSCALE:GREGORIAN
METHOD:PUBLISH
X-ORIGINAL-URL:https://petriraisanen.com
X-WR-CALDESC:Events for Petri Räisänen
REFRESH-INTERVAL;VALUE=DURATION:PT1H
X-Robots-Tag:noindex
X-PUBLISHED-TTL:PT1H
BEGIN:VTIMEZONE
TZID:UTC
BEGIN:STANDARD
TZOFFSETFROM:+0000
TZOFFSETTO:+0000
TZNAME:UTC
DTSTART:20190101T000000
END:STANDARD
END:VTIMEZONE
BEGIN:VEVENT
DTSTART;VALUE=DATE:20200326
DTEND;VALUE=DATE:20200330
DTSTAMP:20260420T135656
CREATED:20190522T063947Z
LAST-MODIFIED:20200318T113127Z
UID:9860-1585180800-1585526399@petriraisanen.com
SUMMARY:Balans Yoga\, Gothenburg (Hovås)\, Sweden\, March 26 - 29 2020 CANCELLED / POSTPONED TO AUGUST 20-23 2020
DESCRIPTION:
URL:https://petriraisanen.com/event/balans-yoga-gothenburg-hovas-sweden-march-26-29-2020/
CATEGORIES:Workshops
ATTACH;FMTTYPE=image/jpeg:https://petriraisanen.com/wp-content/uploads/2019/05/IMG_1646.jpeg
END:VEVENT
END:VCALENDAR