BEGIN:VCALENDAR
VERSION:2.0
PRODID:-//Petri Räisänen - ECPv6.15.11//NONSGML v1.0//EN
CALSCALE:GREGORIAN
METHOD:PUBLISH
X-WR-CALNAME:Petri Räisänen
X-ORIGINAL-URL:https://petriraisanen.com
X-WR-CALDESC:Events for Petri Räisänen
REFRESH-INTERVAL;VALUE=DURATION:PT1H
X-Robots-Tag:noindex
X-PUBLISHED-TTL:PT1H
BEGIN:VTIMEZONE
TZID:UTC
BEGIN:STANDARD
TZOFFSETFROM:+0000
TZOFFSETTO:+0000
TZNAME:UTC
DTSTART:20190101T000000
END:STANDARD
END:VTIMEZONE
BEGIN:VEVENT
DTSTART;VALUE=DATE:20200522
DTEND;VALUE=DATE:20200525
DTSTAMP:20260420T100755
CREATED:20200428T083915Z
LAST-MODIFIED:20200521T183904Z
UID:10606-1590105600-1590364799@petriraisanen.com
SUMMARY:Astanga Yoga Helsinki On-Line Course\, May 22-24 2020
DESCRIPTION:This is our third On-line workshop with Petri and Juha (Astanga Yoga Helsinki). Please check the registration info from https://astangajooga.fi/online-astanga-workshop-with-petri-raisanen-and-juha-javanainen-may-2020/ \n\n\n\n\n\nLIVE ONLINE Workshop Schedule (Finland time)\n\n\n\n\n\n\n\n\n\n\n\n\n\n\nFriday 22.5.\n08:00 – 11:00 Ashtanga Mysore Practice / Petri&Juha\n(Online) \n\n\n\n\n\n\n\n\n\n\nSaturday 23.5.\n08:00 – 11:00 Ashtanga Mysore Practice / Petri&Juha\n(Online) \n11:30 – 13:00 Special Class: Q&A about Yoga Practice with Petri&Juha. The class includes guided Pranayama & Meditation/ Petri\n(Online) \n\n\n\n\n\n\n\n\n\n\nSunday 24.5.\n09:00 – 11:00 Led Ashtanga Primary Series / Petri\n(Online) \n11:30 – 13:15 Special Class:  Yoga Sutras 2nd Chapter: the role of Kriya Yoga & Kleshas in Classical Yoga system\, Part II; class includes guided Yoga sutra chanting & Pranayama / Juha\n(Online) \n\n\n\n\n\n\n\n\n\nWelcome to practice on-line. Looking forward to see you! \nWarmly\, \nPetri & Juha
URL:https://petriraisanen.com/event/astanga-yoga-helsinki-finland-may-1-3-2020/
CATEGORIES:Workshops
ATTACH;FMTTYPE=image/jpeg:https://petriraisanen.com/wp-content/uploads/2020/04/IMG_4638.jpeg
END:VEVENT
END:VCALENDAR