BEGIN:VCALENDAR
VERSION:2.0
PRODID:-//Petri Räisänen - ECPv6.15.11//NONSGML v1.0//EN
CALSCALE:GREGORIAN
METHOD:PUBLISH
X-ORIGINAL-URL:https://petriraisanen.com
X-WR-CALDESC:Events for Petri Räisänen
REFRESH-INTERVAL;VALUE=DURATION:PT1H
X-Robots-Tag:noindex
X-PUBLISHED-TTL:PT1H
BEGIN:VTIMEZONE
TZID:UTC
BEGIN:STANDARD
TZOFFSETFROM:+0000
TZOFFSETTO:+0000
TZNAME:UTC
DTSTART:20190101T000000
END:STANDARD
END:VTIMEZONE
BEGIN:VEVENT
DTSTART;VALUE=DATE:20200807
DTEND;VALUE=DATE:20200810
DTSTAMP:20260420T060039
CREATED:20200620T143541Z
LAST-MODIFIED:20200623T082123Z
UID:10892-1596758400-1597017599@petriraisanen.com
SUMMARY:Auki Joogakoulu\, Tampere\, Finland August 7-9\, 2020
DESCRIPTION:Auki Yoga Shala is founded by some of  the “original” Tampere Ashtanga Yoga practitioners\, Frank Kappas\, Risto Suikkanen and Meri Tiitola with their friends. In the last year the shala has been developing to the very open shala with several different yoga styles. \nIt is my pleasure to be teaching in Tampere again after a long break. It will be exited also to visit to all great Tampere public saunas by the lake and meet a friendly yogis. \nWelcome to the weekend workshop in Tampere! \nPetri \n 
URL:https://petriraisanen.com/event/auki-joogakoulu-tampere-finland-august-7-9-2020/
CATEGORIES:Workshops
ATTACH;FMTTYPE=image/jpeg:https://petriraisanen.com/wp-content/uploads/2019/05/Hyvä-1-e1556803480461.jpg
ORGANIZER;CN="www.aukijoogakoulu.fi":MAILTO:aukijoogakoulu@gmail.com
END:VEVENT
END:VCALENDAR