BEGIN:VCALENDAR
VERSION:2.0
PRODID:-//Petri Räisänen - ECPv6.15.11//NONSGML v1.0//EN
CALSCALE:GREGORIAN
METHOD:PUBLISH
X-WR-CALNAME:Petri Räisänen
X-ORIGINAL-URL:https://petriraisanen.com
X-WR-CALDESC:Events for Petri Räisänen
REFRESH-INTERVAL;VALUE=DURATION:PT1H
X-Robots-Tag:noindex
X-PUBLISHED-TTL:PT1H
BEGIN:VTIMEZONE
TZID:UTC
BEGIN:STANDARD
TZOFFSETFROM:+0000
TZOFFSETTO:+0000
TZNAME:UTC
DTSTART:20190101T000000
END:STANDARD
END:VTIMEZONE
BEGIN:VEVENT
DTSTART;VALUE=DATE:20200822
DTEND;VALUE=DATE:20200824
DTSTAMP:20260420T055948
CREATED:20200726T092013Z
LAST-MODIFIED:20200818T053308Z
UID:11055-1598054400-1598227199@petriraisanen.com
SUMMARY:Purple Valley Yoga Goa\, On-line workshop\, August 22-23 2020
DESCRIPTION:Purple Valley Yoga On-line Schedule 22-23.8.2020 \nWelcome for Petri’s and Wambui’s On-line workshop organised by Purple Valley Yoga\, Goa. Here is the schedule for the two day intensive! \nhttps://www.purplevalleygoa.com/bookings-checkout/petri-wambui \nSaturday Aug 22 \n08.00-10.30 Led Primary and the first 6 poses from the Intermediate series with light pranayama: the “traditional” vinyasa count with steady pace\, suitable for all practitioners. The practice is guided all the way to the Intermediate series pose Ustrasana\, but the practitioner can choose when to stop\, when to have breaks and do asana modifications.    \n11.00-12.30 Guided Accessible Half Primary series: suitable for beginners; older practitioners; those recovering from injury; more abundantly-bodied practitioners. The use of props such as blocks\, bolsters\, chairs\, wall is welcome and guided instruction on these can be provided as needed.  \n14:00-15:30 Workshop: Off the Mat: Spiritual Practice as Sacred Activism \nThis workshop is suitable for yoga practitioners\, shala and studio owners who wish to co-create more equity and community care in yoga and wellness spaces. We’ll look at how to take the insight gained from our spiritual practices and apply them back into this beautiful\, burning world. What is our role as yoga practitioners around anti-Black racism and systemic oppression? How can we embody love and compassion in a way that doesn’t spiritually bypass ‘the hard topics?’ Bring a pen and paper and a brave\, open heart. \n15:30-16:00 Meditation \nSunday Aug 23 \n08.00-10.30. Mysore style/self practice\, all levels. \n11:30-13:00 Workshop: Asana practice and adjustments for all body and mind types  \nWe are all body types\, shapes and ages. What is easy for one student can be impossible for someone else. That doesn’t mean that someone is doing a better or worst yoga. How we can observe the students body and mind types and be flexible with the “traditional” Ashtanga system? Making the practice comfortable for all the students and creating a safe zone to be who you are.  \n15.00-16.00 Q & A\, Finishing Circle
URL:https://petriraisanen.com/event/purple-valley-yoga-goa-on-line-workshop-august-22-23-2020/
CATEGORIES:On-line courses,Workshops
ATTACH;FMTTYPE=image/jpeg:https://petriraisanen.com/wp-content/uploads/2020/07/IMG_6175-e1595758997944.jpeg
END:VEVENT
END:VCALENDAR