BEGIN:VCALENDAR
VERSION:2.0
PRODID:-//Petri Räisänen - ECPv6.15.11//NONSGML v1.0//EN
CALSCALE:GREGORIAN
METHOD:PUBLISH
X-ORIGINAL-URL:https://petriraisanen.com
X-WR-CALDESC:Events for Petri Räisänen
REFRESH-INTERVAL;VALUE=DURATION:PT1H
X-Robots-Tag:noindex
X-PUBLISHED-TTL:PT1H
BEGIN:VTIMEZONE
TZID:UTC
BEGIN:STANDARD
TZOFFSETFROM:+0000
TZOFFSETTO:+0000
TZNAME:UTC
DTSTART:20190101T000000
END:STANDARD
END:VTIMEZONE
BEGIN:VEVENT
DTSTART;VALUE=DATE:20200827
DTEND;VALUE=DATE:20200830
DTSTAMP:20260420T060036
CREATED:20200227T070919Z
LAST-MODIFIED:20200713T084718Z
UID:10432-1598486400-1598745599@petriraisanen.com
SUMMARY:Astanga Yoga Helsinki\, Finland\, August 27 - 30 2020
DESCRIPTION:Ashtanga Yoga Workshop with Petri Räisänen and Wambui Njuguna-Räisänen \nWelcome to the four day Intensive workshop with Petri and Wambui. Here is the schedule of the workshop. More information and registration visit at https://astangajooga.fi/kurssit/intensiivit-ja-tapahtumat/ \nThursday 27.8. \n06:00 – 08:30 Ashtanga Mysore Practice / Petri&Wambui \nFriday 28.8. \n06:00 – 08:30 Ashtanga Mysore Practice / Petri&Wambui \n16:30 – 18:30 Special Class: Creating Safer Spaces – How do we change the culture of hierarchy in yoga? / Petri & Wambui \n(also Online) \nSaturday 29.8. \n07:00 – 10:30 Ashtanga Mysore Practice / Petri&Wambui \n11:00 – 13:00 Special Class: An engaged approach to practice off the mat. Class includes guided meditation / Wambui\n(also Online) \n13:30 – 15:00 Special Class: Black Lives Matter..also in Yoga / Michaela Moua\n(also Online) \nSunday 30.8. \n07:00 – 10:30 Ashtanga Mysore Practice / Petri&Wambui \n11:00 – 13:00 Special Class:  Yoga of higher states\, Samadhi’s / Petri\n(also Online)
URL:https://petriraisanen.com/event/astanga-yoga-helsinki-august-28-30-2020/
CATEGORIES:Workshops
ATTACH;FMTTYPE=image/jpeg:https://petriraisanen.com/wp-content/uploads/2020/02/Wambui-and-Petri-assisting-by-Tom-Rosenthal.jpg
END:VEVENT
END:VCALENDAR