BEGIN:VCALENDAR
VERSION:2.0
PRODID:-//Petri Räisänen - ECPv6.15.11//NONSGML v1.0//EN
CALSCALE:GREGORIAN
METHOD:PUBLISH
X-ORIGINAL-URL:https://petriraisanen.com
X-WR-CALDESC:Events for Petri Räisänen
REFRESH-INTERVAL;VALUE=DURATION:PT1H
X-Robots-Tag:noindex
X-PUBLISHED-TTL:PT1H
BEGIN:VTIMEZONE
TZID:UTC
BEGIN:STANDARD
TZOFFSETFROM:+0000
TZOFFSETTO:+0000
TZNAME:UTC
DTSTART:20190101T000000
END:STANDARD
END:VTIMEZONE
BEGIN:VEVENT
DTSTART;VALUE=DATE:20200904
DTEND;VALUE=DATE:20200907
DTSTAMP:20260420T043418
CREATED:20200227T073027Z
LAST-MODIFIED:20200606T081129Z
UID:10444-1599177600-1599436799@petriraisanen.com
SUMMARY:A.G. and Indra Mohan in Helsinki\, Finland\, September 4-6 2020 CANCELLED
DESCRIPTION:A.G. and IndraMohan will hold an On-line workshops in 2020 starting with Pranayama..if you are interested check online.svastha.net \n  \nThis is a great opportunity to study with two yoga masters: the founders of Svasta Yoga & Ayurveda\, A.G and Indra Mohan. \nThe workshop topics are.. \nPranayama\, Bhavana and the power of Devotion  \nThe teaching are following the tradition of T. Krishnamacharya. \nAll the classes will be held at Astanga Yoga Helsinki\, Finland (Annankatu 29 B\, upstairs shala) \nRegistration at svastha.finland@gmail.com \nAG Mohan Helsinki 2020 Flyer
URL:https://petriraisanen.com/event/a-g-and-indra-mohan-in-helsinki-finland-september-4-6-2020/
LOCATION:astanga yoga helsinki\, Annankatu 29 B\, Helsinki\, 00100\, Finland
CATEGORIES:Workshops
ATTACH;FMTTYPE=image/jpeg:https://petriraisanen.com/wp-content/uploads/2020/02/A.G-Indra-cropped.jpg
ORGANIZER;CN="Svastha Finland":MAILTO:svastha.finland@gmail.com
END:VEVENT
END:VCALENDAR