BEGIN:VCALENDAR
VERSION:2.0
PRODID:-//Petri Räisänen - ECPv6.15.11//NONSGML v1.0//EN
CALSCALE:GREGORIAN
METHOD:PUBLISH
X-ORIGINAL-URL:https://petriraisanen.com
X-WR-CALDESC:Events for Petri Räisänen
REFRESH-INTERVAL;VALUE=DURATION:PT1H
X-Robots-Tag:noindex
X-PUBLISHED-TTL:PT1H
BEGIN:VTIMEZONE
TZID:UTC
BEGIN:STANDARD
TZOFFSETFROM:+0000
TZOFFSETTO:+0000
TZNAME:UTC
DTSTART:20190101T000000
END:STANDARD
END:VTIMEZONE
BEGIN:VEVENT
DTSTART;VALUE=DATE:20200911
DTEND;VALUE=DATE:20200914
DTSTAMP:20260420T044320
CREATED:20200129T044548Z
LAST-MODIFIED:20200605T071951Z
UID:10412-1599782400-1600041599@petriraisanen.com
SUMMARY:Ashtanga Yoga Dublin\, Ireland\, September 11-13 2020 CANCELLED
DESCRIPTION:We are sorry to inform that the workshop in Dublin has been cancelled due the Covid-19 restrictions in Ireland. We hope to set a new workshop time for the future as soon as the time is ready. \nPetri Räisänen and Wambui Njuguna-Räisänen are teaching in Ireland for the first time and will be offering an Intensive 3 Day Workshop at Ashtanga Yoga Dublin. This workshop will consist of a Friday evening led class\, including pranayama and meditation. On Saturday and Sunday\, there will be a morning Mysore practice and an afternoon Masterclass. \nFor full details\, please check the website. \nWelcome to Dublin!
URL:https://petriraisanen.com/event/ashtanga-yoga-dublin-ireland-september-11-13-2020/
CATEGORIES:Workshops
ATTACH;FMTTYPE=image/jpeg:https://petriraisanen.com/wp-content/uploads/2019/08/WP-Goa-2014.jpg
END:VEVENT
END:VCALENDAR