BEGIN:VCALENDAR
VERSION:2.0
PRODID:-//Petri Räisänen - ECPv6.15.11//NONSGML v1.0//EN
CALSCALE:GREGORIAN
METHOD:PUBLISH
X-WR-CALNAME:Petri Räisänen
X-ORIGINAL-URL:https://petriraisanen.com
X-WR-CALDESC:Events for Petri Räisänen
REFRESH-INTERVAL;VALUE=DURATION:PT1H
X-Robots-Tag:noindex
X-PUBLISHED-TTL:PT1H
BEGIN:VTIMEZONE
TZID:UTC
BEGIN:STANDARD
TZOFFSETFROM:+0000
TZOFFSETTO:+0000
TZNAME:UTC
DTSTART:20190101T000000
END:STANDARD
END:VTIMEZONE
BEGIN:VEVENT
DTSTART;VALUE=DATE:20201107
DTEND;VALUE=DATE:20201109
DTSTAMP:20260420T014757
CREATED:20180508T180241Z
LAST-MODIFIED:20201104T181427Z
UID:8789-1604707200-1604879999@petriraisanen.com
SUMMARY:Ashtanga Yoga Sprit\, Münich\, Germany - November 6-8 2020-Rescheduled for On-Line Workshop Nov 7-8 2020
DESCRIPTION:Due the Covid-19 restrictions in Germany we will hold a weekend On-line workshop on the November 7-8 2020. Here is the schedule and registration guide..http://ashtangaspiritmunich.com/schedule/ \nWelcome to practice..from home\, easy and convenient : ) \nWarmly\, Petri \nSchedule and prices \nOne day 80 € Two days 160 € 1 x Morning class 50 € 1 x Noon workshop 35 € \nSaturday 7.11.2020\n8:00-10:30 CET Led primary series + intro to intermediate series Pranayama & meditation \nBreak 30 minutes \n11:00-12:30 CET Workshop: Om-syllable\, its meaning and use in yoga practice and meditation. \nSunday 8.11.2020\n8:00-10:30 CET Led primary series + intro to intermediate series Pranayama & meditation \nBreak 30 minutes \n11:00-12:30 CET Workshop: Creating your individual Ashtanga practice\, pace and nature \n 
URL:https://petriraisanen.com/event/munich-munchen-germany-2019/
CATEGORIES:Workshops
ATTACH;FMTTYPE=image/jpeg:https://petriraisanen.com/wp-content/uploads/2018/05/Petri-in-Mysore-2010-.jpg
END:VEVENT
END:VCALENDAR