BEGIN:VCALENDAR
VERSION:2.0
PRODID:-//Petri Räisänen - ECPv6.15.11//NONSGML v1.0//EN
CALSCALE:GREGORIAN
METHOD:PUBLISH
X-WR-CALNAME:Petri Räisänen
X-ORIGINAL-URL:https://petriraisanen.com
X-WR-CALDESC:Events for Petri Räisänen
REFRESH-INTERVAL;VALUE=DURATION:PT1H
X-Robots-Tag:noindex
X-PUBLISHED-TTL:PT1H
BEGIN:VTIMEZONE
TZID:UTC
BEGIN:STANDARD
TZOFFSETFROM:+0000
TZOFFSETTO:+0000
TZNAME:UTC
DTSTART:20190101T000000
END:STANDARD
END:VTIMEZONE
BEGIN:VEVENT
DTSTART;VALUE=DATE:20201205
DTEND;VALUE=DATE:20210214
DTSTAMP:20260420T001648
CREATED:20201123T192850Z
LAST-MODIFIED:20201201T082812Z
UID:11197-1607126400-1613260799@petriraisanen.com
SUMMARY:On-Line Workshop Calendar 2020-2021
DESCRIPTION:Dearest friends\, students and colleagues\, \nThere is at least one positive thing with this Covid-19 pandemia..that the world is more connected via On-line classes\, workshops and courses. There is plenty of On-line classes with a great teachers which wouldn’t be available without the pandemia. Actually there is so many of them that it can become confusing : ) \nPetri and Wambui are still teaching the workshops and classes in Finland and we are living a family life which means that we have a limited time for the On-line classes..but here is some of them and we are happy to see the students practicing during the lockdowns and restrictions in the shala and On-line. \nWambui’s own schedule can be found from www.wambuinjuguna.com and from her Instagram and Facebook @wellnesswithwambui. \nPetri’s On-line classes list is here below..registrations through the workshop websites! \nNovember 28\, 2020 \nYoga in Salento On-line \nwww.yogainsalento.com \nDecember 5\, 2020 \nPuro Yoga On-line \nwww.puroyoga.no \nDecember 6\, 2020 \nMy Yoga Shala Marseille On-line \nwww.myyogamarseille.fr \nFebruary 6 2021 \nKeen On Yoga On-line \nwww.keenonyoga.co.uk
URL:https://petriraisanen.com/event/on-line-workshop-calendar-2020-2021/
CATEGORIES:On-line courses,Workshops
ATTACH;FMTTYPE=image/jpeg:https://petriraisanen.com/wp-content/uploads/2020/11/Petri-On-line-by-the-lake.jpeg
END:VEVENT
BEGIN:VEVENT
DTSTART;VALUE=DATE:20201218
DTEND;VALUE=DATE:20201221
DTSTAMP:20260420T001648
CREATED:20200404T083022Z
LAST-MODIFIED:20201217T185440Z
UID:10581-1608249600-1608508799@petriraisanen.com
SUMMARY:Astanga Yoga Helsinki\, Finland\, December 18 – 20 2020
DESCRIPTION:This is our yearly Christmas time workshop which has been going on since 1997 when the Astanga Yoga Helsinki was found by Petri and Juha. \nIt is a great way to prepare yourself for the Holidays and get inspiration for your practice! \nStay healthy and safe! \nPetri and Juha
URL:https://petriraisanen.com/event/astanga-yoga-helsinki-finland-december-11-13-2020/
LOCATION:Astanga Yoga Helsinki\, Annankatu 29 B\, Helsinki\, 00830\, Finland
CATEGORIES:Workshops
ATTACH;FMTTYPE=image/jpeg:https://petriraisanen.com/wp-content/uploads/2020/04/IMG_4638.jpeg
END:VEVENT
END:VCALENDAR