BEGIN:VCALENDAR
VERSION:2.0
PRODID:-//Petri Räisänen - ECPv6.15.11//NONSGML v1.0//EN
CALSCALE:GREGORIAN
METHOD:PUBLISH
X-ORIGINAL-URL:https://petriraisanen.com
X-WR-CALDESC:Events for Petri Räisänen
REFRESH-INTERVAL;VALUE=DURATION:PT1H
X-Robots-Tag:noindex
X-PUBLISHED-TTL:PT1H
BEGIN:VTIMEZONE
TZID:UTC
BEGIN:STANDARD
TZOFFSETFROM:+0000
TZOFFSETTO:+0000
TZNAME:UTC
DTSTART:20210101T000000
END:STANDARD
END:VTIMEZONE
BEGIN:VEVENT
DTSTART;VALUE=DATE:20220929
DTEND;VALUE=DATE:20221010
DTSTAMP:20260420T060035
CREATED:20210121T213216Z
LAST-MODIFIED:20220621T112500Z
UID:11302-1664409600-1665359999@petriraisanen.com
SUMMARY:Moscow Workshop & Lake Ladoga Retreat\, Russia\, September 29 - October 9 2022 Cancelled! PEACE!!! ❤️
DESCRIPTION:It is hard to even describe the disappointment\, pain and sadness of what is happening in Ukraine\, Russia and many other parts of Europe and the whole world in this moment. It has been really amazing to teach in Russia for the last about 15 years. The students are dedicated and friendly. Beautiful beings. New we don’t know when we will be back..the war/invasion is going on..I feel compassion and deep love for the students in Russia. I pray for a Peace and Peace and Peace again and again..to find the solution and clarity. Stay together..Yogis for the PEACE!\n  \nIt will be amazing to go back to Moscow and teach with my great friend and colleague Alex Smirkin. The workshop place\, schedule and other details will be announced soon. \nThe workshop in Moscow will take place in September 29 – October 2 2022. \nAfter the Moscow workshop we will move to Lake Ladoga for a one week Ashtanga Retreat in October 3-9. The retreat will be organised by Alex Smirkin and Oksana Gorkina and they will also assist Petri at the shala. The retreat resort is a 10 minutes walk to the lake and is surrounded with a beautiful nature. \nThere will be a good time to relax and meet the fellow ashtangis. In the afternoons there will be workshops\, discussions and pranayama sessions with Petri. \nIn 2021 retreat we did an amazing trip to Konevsky Monastery..this can be repeated also in 2022 retreat (or some other interesting location). \nWelcome to practice and learn more the Ashtanga tradition! \nWarmly\, \nPetri\, Alex and Oksana \n  \nPhoto by Kate Budzul (Lake Ladoga\, Konevsky Monastery island in the background \, 2021)
URL:https://petriraisanen.com/event/prana-yoga-moscow-lake-ladoga-retreat-russia-october-14-23-2021/
CATEGORIES:Retreats,Workshops
ATTACH;FMTTYPE=image/jpeg:https://petriraisanen.com/wp-content/uploads/2021/01/IMG_4024.jpg
END:VEVENT
END:VCALENDAR