BEGIN:VCALENDAR
VERSION:2.0
PRODID:-//Petri Räisänen - ECPv6.15.11//NONSGML v1.0//EN
CALSCALE:GREGORIAN
METHOD:PUBLISH
X-ORIGINAL-URL:https://petriraisanen.com
X-WR-CALDESC:Events for Petri Räisänen
REFRESH-INTERVAL;VALUE=DURATION:PT1H
X-Robots-Tag:noindex
X-PUBLISHED-TTL:PT1H
BEGIN:VTIMEZONE
TZID:UTC
BEGIN:STANDARD
TZOFFSETFROM:+0000
TZOFFSETTO:+0000
TZNAME:UTC
DTSTART:20210101T000000
END:STANDARD
END:VTIMEZONE
BEGIN:VEVENT
DTSTART;VALUE=DATE:20221014
DTEND;VALUE=DATE:20221017
DTSTAMP:20260420T060036
CREATED:20190522T065312Z
LAST-MODIFIED:20220710T093004Z
UID:9868-1665705600-1665964799@petriraisanen.com
SUMMARY:Ashtanga Yoga Uppsala\, Sweden\, October 14 - 16 2022
DESCRIPTION:Back in Uppsala\, the ancient town in Sweden. It is a beauty for the eyes and heart..and the shala is always warm and full of great energy. \nWelcome to practice with Petri and Anne-Lie and the Uppsala Ashtanga community : ) \n  \n  \nPhoto by Tom Rosenthal
URL:https://petriraisanen.com/event/ashtanga-yoga-uppsala-sweden-march-18-21-2021/
CATEGORIES:Workshops
ATTACH;FMTTYPE=image/jpeg:https://petriraisanen.com/wp-content/uploads/2018/03/DSC0011petriurdvamukka-Tom-Rosenthal-small.jpg
END:VEVENT
END:VCALENDAR