BEGIN:VCALENDAR
VERSION:2.0
PRODID:-//Petri Räisänen - ECPv6.15.11//NONSGML v1.0//EN
CALSCALE:GREGORIAN
METHOD:PUBLISH
X-ORIGINAL-URL:https://petriraisanen.com
X-WR-CALDESC:Events for Petri Räisänen
REFRESH-INTERVAL;VALUE=DURATION:PT1H
X-Robots-Tag:noindex
X-PUBLISHED-TTL:PT1H
BEGIN:VTIMEZONE
TZID:UTC
BEGIN:STANDARD
TZOFFSETFROM:+0000
TZOFFSETTO:+0000
TZNAME:UTC
DTSTART:20210101T000000
END:STANDARD
END:VTIMEZONE
BEGIN:VEVENT
DTSTART;VALUE=DATE:20221028
DTEND;VALUE=DATE:20221031
DTSTAMP:20260420T060039
CREATED:20220710T092711Z
LAST-MODIFIED:20221018T103952Z
UID:11818-1666915200-1667174399@petriraisanen.com
SUMMARY:Ashtanga Yoga & Energy Healing Intensive Weeks\, Arrifana\, Portugal\, October 18-23 & 25-30 2022
DESCRIPTION:THE 2022 ENERGY HEALING WORKSHOP SCHEDULE.  \nYOU CAN JOIN FOR ONE WEEK OR TWO WEEKS WORKSHOPS WITHOUT REPEATING THE SAME AFTERTNOON SCHEDULE!  \nTHE WORKSHOP WILL BE IN LIVE AT THE ARRIFANA SHALA AND ON-LINE LIVE BY ZOOM.  \nTeachers: \nPETRI RÄISÄNEN AND WAMBUI NJUGUNA-RÄISÄNEN \nPetri studied energy healing and worked as an energy healer in the 1990’s\, using the method which he learned from the Finnish folk healer masters. The energy-healing techniques are based on sensing and locating the blocks in the flow of energy throughout the body and then releasing and balancing the energy flow. Besides a healing treatments and self healing method the Energy healing techniques can be used in the asana adjustments and in your own practice. All the techniques are completely natural and simple\, but need a deep concentration and one direction mind focus (ekagra). Petri has been teaching Energy healing workshops since 2000 and Ashtanga Yoga since 1991.    \nWambui studied Petri’s energy healing techniques while on retreat on Koh Mak from 2010-2014. She studied Chavutti Thirumal\, massage by foot press\, in 2013 with Helen Noakes. She has been practicing this unique form of massage therapy since then. In 2020\, Wambui became certified in the Trauma Conscious Yoga Method and applies the principles of trauma-sensitive care in her treatments and yoga classes. In addition\, Wambui’s advocacy work is held in the Yogic and Buddhist principles of interconnectedness: by healing the collective\, we are able\, in turn to heal ourselves as individuals. \nPetri (Energy Healing / Folk Healing) and Wambui (Chavutti Thirumal) will both give a treatments during the workshop weeks. Please let us know if you are interested and we can set the time! \nPractice / Time options: \nAshtanga Yoga Mysore Style with Petri and Wambui (Starting time 6:30am) \nAshtanga Yoga Mysore Style with Petri and Wambui (Starting time 8:15am) \n  \nWorkshop options and prices: \nAshtanga Yoga morning workshop (Mysore + Fridays Led classes) with Afternoon Energy Healing workshop\, Pranayamas\, Lectures and Meditations (FULL WORKSHOP) 400€ \nMorning Yoga schedule 6 x practice / week with Pranayamas\, Lectures and Meditations 280€  \nOnly Morning Yoga schedule 6 x practice / week 240€ \nEnergy Healing workshop with Pranayamas\, Lectures and Meditations 280€ \nOnly Energy Healing workshop 250€ \nOn-line Energy Healing workshop ZOOM 220€ \nWeekend Sept 21-23 or 28-30 with 2 Mysore mornings in both weeks\, one Led class (Friday) & afternoon sessions 250€ \nNote: If you want to do only the weekend Energy Healing classes\, it can be difficult to attend if you haven’t done Energy Healing work before with Petri. Please ask from Petri about the weekend program if you (anyway) want to attend for the full weekend program. \nSingle classes (Mysore or Led)\, possible if there will be space in the shala 40 € \nSingle classes (Afternoon Energy Healing classes) 60€ \nSingle class (Pranayama\, meditation\, lectures)\, possible if there will be space in the shala 20€ \nSingle class (Workshop opening)\, possible if there will be space in the shala 20€ \nZOOM Classes for other classes than Energy Healing afternoon classes has a same price as the classes at the shala! \n  \nENERGY HEALING WORKSHOP 1 \n(notebook and pen recommended for the Healing Workshop classes and lectures) \nOctober 18-23 Schedule \nTuesday 18th \nMysore Style Ashtanga Yoga: Starting Time: 6:30 or 8:15 (Petri & Wambui)  \n15:30-16:30 Workshop opening discussion: Introduction for Energy Healing and Finnish Healing tradition\, history\, theory and practice (Petri) \n16:30-17:30 Workshop opening discussion: Personal + Collective Healing: Not Free until We’re all Free (Wambui) \n17:30-18:30 Meditation: Strengthening the Energy Body Meditation \nWednesday 19th \nMysore Style Ashtanga Yoga: Starting Time: 6:30 or 8:15 (Petri & Wambui) \n15:30-18:00 Energy Healing and Finnish Healing tradition 1 Sensing the physical body and energy body blocks   \n18:00-18:30 Pranayama (conscious breathing) \nThursday 20th \nMysore Style Ashtanga Yoga: Starting Time: 6:30 or 8:15 (Petri & Wambui) \n15:00-17:00 Energy Healing and Finnish Healing tradition 1 Releasing the energy blocks (Petri)  \n17:15-18:30 Healing the community lecture: 10 Principles of Disability Justice (Wambui)  \nFriday 21st \nLed Class Primary Series Ashtanga Yoga: Starting Times: 6:30 or 8:15 (Petri) \n15:30-18:00 Energy Healing and Finnish Healing Tradition 1 Healing techniques for the legs and feet (Petri)   \n18:00-18:30 Pranayama: Comfortable\, simple and easy pranayamas (breathing exercises) and meditations good for everyone. (Outdoor??) \nSaturday 22nd \nMysore Style Ashtanga Yoga: Starting Time: 6:30 or 8:15 (Petri & Wambui) \n16:00-18:00 Energy Healing and Finnish Healing Tradition 1 Healing different parts of the body (Petri)   \n18:00-18:30 Meditation: Self Healing Meditation (Outdoor??) \n19:00-21:00 Dinner together at Arte Bianca Pizzeria (by the Yoga shala)  \nSunday 23rd \nMysore Style Ashtanga Yoga: Starting Time: 6:30 or 8:15 (Petri & Wambui) \n14:00-16:00 Energy Healing and Finnish Healing Tradition 1 Ending the treatment (Petri)  \n16:15-17:00 Workshop closing circle \nENERGY HEALING WORKSHOP 2  \nOctober 25-30 Schedule \nTuesday 25th \nMysore Style Ashtanga Yoga: Starting Time: 6:30 or 8:15 (Petri & Wambui) \n15:30-16:30 Workshop opening discussion: Energy Healing and Finnish Healing tradition\, history\, theory and practice (Petri) \n16:30-17:30 Workshop opening discussion: (Wambui) \n17:30-18:30 Meditation: Strengthening the Energy Body Meditation \nWednesday 26th \nMysore Style Ashtanga Yoga: Starting Time: 6:30 or 8:15 (Petri & Wambui) \n15:30-18:00 Energy Healing Tradition 2 Sensing\, locating and releasing energy blocks \n18:00-18:30 Pranayama (conscious breathing) \nThursday 27th \nMysore Style Ashtanga Yoga: Starting Time: 6:30 or 8:15 (Petri & Wambui) \n15:30-17:00 Energy Healing Tradition 2 Long distance and short distance healing (Petri) \n17:15-18:30 Healing the community lecture: Calling in Chiron: Working with the Wounded Healer Archetype (Wambui)  \nFriday 28th  \nLed Class Primary Series Ashtanga Yoga: Starting Times: 6:30 or 8:15 (Petri) \n15:30-18:00 Energy Healing Tradition 2 Energy Healing and mind work in Asana adjustments..using the techniques of Finnish traditional folk healing and Sage Patanjali. (Petri)  \n18:00-18:30 Pranayama: Comfortable\, simple and easy pranayamas (breathing exercises) and meditations good for everyone. (Outdoor??) \nSaturday 29th \nMysore Style Ashtanga Yoga: Starting Time: 6:30 or 8:15 (Petri & Wambui) \n16:00-18:00 Energy Healing Tradition 2 Energy Healing treatment in practice (Petri) \n18:00-18:30 Meditation: Self Healing Meditation (Outdoor??) \n19:00-21:00 Dinner together at Arte Bianca Pizzeria (by the Yoga shala)  \nSunday 30th \nMysore Style Ashtanga Yoga: Starting Time: 6:30 or 8:15 (Petri & Wambui) \n14:00-16:00 Energy Healing Tradition 2 Energy Healing Treatment’s ending relaxations (Petri)  \n16:15-17:00 Workshop closing circle \n  \nRegistration and questions: \nAll registrations\, questions and further info through praisanen@yahoo.com (Petri’s email) and payments to Petri’s company Maailmanparantaja Oy. Payment can be made after the registration to secure the spot in the workshop. \nACCOMODATION. \nThe Ashtanga Yoga and Energy Healing Intensive is a non residential Yoga course and students are asked to book their own accommodation. If you are staying around the shala close to Arrifana or Vale de Telha\, you can easily walk or bicycle to the shala\, shops and restaurants. The shala is located in the same building as the Arte Bianca Pizzeria (the best pizza in Algarve).  \nYou can choose from a great variety of accommodation..Airbnb houses and apartments\, little cute motels and guesthouses. (different budgets and needs) within a 1 min walk to a 10 min. drive from the Dawn Collective Shala / the beach. As this is a popular destination we recommend to seek accommodation as early as possible. Please find further info and some recommendations here.      \nSURROUNDING –  ARRIFANA / ALJEZUR\, PORTUGAL. \nThe Dawn Collective Shala (Google Maps) is located between the picturesque Arrifana Beach (2 km) and Aljezur village (7 km)\, where you will find everything you need like supermarkets\, cafés & restaurants\, bakery\, organic shops and a charming local farmers market on Saturdays. \nThe stunning and unspoiled beaches of Arrifana\, Monte Clerigo and Amoreira allow for endless summer days & unreal sunsets. All beaches are easy to access and offer great surf conditions. The jungle-ish hinterland with magic forests of pine\, eucalyptus and cork can be explored with nature walks\, mountain bike or donkey/horse rides. \nThe Dawn Collective Shala has a wooden floor and catches the first rays of sun in the morning. Yoga mats\, blankets and blocks are available as well as a big lawn to hang out after class\, filtered water\, tea and delicious espresso. Also massage treatments are available at the Dawn Collective Shala. \nHow To get there? \nFaro airport is about 130 km from Arrifana and Lisbon airport 230 km. The easies way is to rent a small and inexpensive car from the airport and drive to the shala. Then you can explore easily the closest beaches\, nature and villages. There is a bus from Sete Rios\, Lisbon (https://www.busbud.com/en) for about 4 hours and 19€ to Aljezur. From Faro airport there is also a bus to Aljezur\, but with many stops and one change (https://www.rome2rio.com/map/Aljezur/Faro-Airport-FAO). Ordered taxi cost about 130€ (normal car)\, which is not too bad if you are traveling with company. Faro airport has plenty of Rental car companies iff you are looking for a car for yourself or for share.   \nWorkshop options and prices: \nAshtanga Yoga morning workshop (Mysore or Accessible) with Afternoon Energy Healing workshop\, Pranayamas\, Lectures and Meditations (FULL WORKSHOP) 400€ \nMorning Yoga schedule 6 x practice / week with Pranayamas\, Lectures and Meditations 280€  \nOnly Morning Yoga schedule 6 x practice / week 240€ \nEnergy Healing workshop with Pranayamas\, Lectures and Meditations 280€ \nOnly Energy Healing workshop 250€ \nOn-line Energy Healing workshop ZOOM 220€ \nWeekend Sept 21-23 or 28-30 with 2 Mysore mornings in both weeks\, one Led class (Friday) & afternoon sessions 250€ \nNote: If you haven’t done Energy Healing work before with Petri\, the weekend Energy Healing classes can be difficult to attend. Please ask from Petri about the weekend program if you (anyway) want to attend for the full weekend program. \nSingle classes (Mysore or Led)\, possible if there will be space in the shala 40 € \nSingle classes (Afternoon Energy Healing classes) 60€ \nSingle class (Pranayama\, meditation\, lectures)\, possible if there will be space in the shala 20€ \nSingle class (Workshop opening)\, possible if there will be space in the shala 20€ \nZOOM Classes for other classes than Energy Healing afternoon classes has a same price as the classes at the shala! \n  \nCancellation policy: \nIn case of cancellation the payment is not refundable after October 11th 2022. Before October 11th\, a full refund (minus 20€ for management costs) is given. Please email your bank account number for the refund if needed. \nIn the case of Corona-19 cancellation (infection or government regulations) the full payment will be refund without management cost! \n  \nPayment Options x 3 \nBank transfer (most recommended) \nAccount details: \nTo: Maailmanparantaja Oy \nBank: \nNordea Bank Finland \nAccount IBAN: FI56 1237 3000 1390 78 \nSwift code: NDEAFIHH \nMessage: \nArrifana Oct 18-23 2022 or or 25-30 2022\, Your Name and what you are paying..Full program/Only Mornings/Weekend etc. \nLow cost international transfer \nhttp://transferwise.com/ \nSome students has been using this transfer and the commission is lower than in PayPal or normal bank transfer..especially if you are paying from the US or Asia. \nIn Transferwise payments there is a commission about 3-4%..so could you please add about that amount or make sure that you are paying the right amount. The missing amount can be paid also in cash at the shala (Petri will let you know when we will meet). \nMessage: \nArrifana Oct 18-23 2022 or or 25-30 2022\, Your Name and what you are paying..Full program/Only Mornings/Weekend etc. \nPayPal to: \npaypal.me/raisanen \nIn PayPal payments there is a commission about 7%..so could you please add about that amount or make sure that you are paying the right amount. The missing amount can be paid also in cash at the shala (Petri will let you know when we will meet). \nMessage: \nArrifana Oct 18-23 2022 or or 25-30 2022\, Your Name and what you are paying..Full program/Only Mornings/Weekend etc. \nAll questions and information..email to Petri praisanen@yahoo.com \nLooking forward to spend a beautiful healing weeks in Arrifana\, Portugal \nPetri and Wambui
URL:https://petriraisanen.com/event/ashtanga-yoga-energy-healing-intensive-weeks-arrifana-portugal-october-18-23-25-30-2022/
CATEGORIES:Workshops
ATTACH;FMTTYPE=image/jpeg:https://petriraisanen.com/wp-content/uploads/2017/05/retreat01_1500X430.jpg
END:VEVENT
END:VCALENDAR