BEGIN:VCALENDAR
VERSION:2.0
PRODID:-//Petri Räisänen - ECPv6.15.11//NONSGML v1.0//EN
CALSCALE:GREGORIAN
METHOD:PUBLISH
X-ORIGINAL-URL:https://petriraisanen.com
X-WR-CALDESC:Events for Petri Räisänen
REFRESH-INTERVAL;VALUE=DURATION:PT1H
X-Robots-Tag:noindex
X-PUBLISHED-TTL:PT1H
BEGIN:VTIMEZONE
TZID:UTC
BEGIN:STANDARD
TZOFFSETFROM:+0000
TZOFFSETTO:+0000
TZNAME:UTC
DTSTART:20210101T000000
END:STANDARD
END:VTIMEZONE
BEGIN:VEVENT
DTSTART;VALUE=DATE:20221203
DTEND;VALUE=DATE:20221207
DTSTAMP:20260420T123339
CREATED:20190906T194759Z
LAST-MODIFIED:20220204T103633Z
UID:10187-1670025600-1670371199@petriraisanen.com
SUMMARY:Delight Yoga\, Amsterdam\, Netherlands\, December 3-6 2022
DESCRIPTION:Delight Yoga is the leading Ashtanga shala in Amsterdam with very delicate teachers and students and a beautiful spaces for practice. \nThe schedule has a morning practice\, morning workshop and afternoon workshop. A full range or practical and theoretical yoga knowledge! \nWelcome to learn a honest and healing Ashtanga Yoga with Petri. \n  \nPhoto by Tom Rosenthal in Melkote close to Mysore in 2009.
URL:https://petriraisanen.com/event/delight-yoga-amsterdam-netherlands-october-22-25-2020/
CATEGORIES:Workshops
ATTACH;FMTTYPE=image/jpeg:https://petriraisanen.com/wp-content/uploads/2019/09/Petri-Pasasana.jpg
END:VEVENT
END:VCALENDAR