BEGIN:VCALENDAR
VERSION:2.0
PRODID:-//Petri Räisänen - ECPv6.15.11//NONSGML v1.0//EN
CALSCALE:GREGORIAN
METHOD:PUBLISH
X-ORIGINAL-URL:https://petriraisanen.com
X-WR-CALDESC:Events for Petri Räisänen
REFRESH-INTERVAL;VALUE=DURATION:PT1H
X-Robots-Tag:noindex
X-PUBLISHED-TTL:PT1H
BEGIN:VTIMEZONE
TZID:UTC
BEGIN:STANDARD
TZOFFSETFROM:+0000
TZOFFSETTO:+0000
TZNAME:UTC
DTSTART:20220101T000000
END:STANDARD
END:VTIMEZONE
BEGIN:VEVENT
DTSTART;VALUE=DATE:20230220
DTEND;VALUE=DATE:20230227
DTSTAMP:20260420T095922
CREATED:20221125T233305Z
LAST-MODIFIED:20221221T095855Z
UID:12039-1676851200-1677455999@petriraisanen.com
SUMMARY:YogaVolt ⚡️\, Fuerteventura\, Canary Islands\, February 20-26 2023
DESCRIPTION:When the Northern part of Europe and America are cold and the winter has been lasted for too long..there is a Canary Island where the temperature is smooth for the whole winter : )  \nValentina Parmigiani has build a new beautiful yoga shala next to her home in Fuerteventura. This will be one of the first workshops in the shala.   \nPetri and Wambui will share the workshop teaching. Teaching together in the mornings and doing a separate afternoon workshops. Wambui will join to the workshop on Thursday evening.  \nThis is a great opportunity to break the winter\, practice in a warm environment\, surf\, enjoy the sun with the fellow Ashtangis\, study and grow.  \nYou can email to Valentine at valenparmi@gmail.com and ask for more details. The address for the shala is Calle Montaña Colorado 3\, Lajares Fuerteventura. The website is just opened at https://www.yogavolt.org \nWarmly\, \nPetri\, Wambui and Valentina
URL:https://petriraisanen.com/event/yogavolt-fuerteventura-canary-islands-february-20-26-2023/
CATEGORIES:Workshops
ATTACH;FMTTYPE=image/jpeg:https://petriraisanen.com/wp-content/uploads/2022/11/IMG_0933.jpg
ORGANIZER;CN="YogaVolt %E2%9A%A1%EF%B8%8F":MAILTO:valenparmi@gmail.com
END:VEVENT
END:VCALENDAR