BEGIN:VCALENDAR
VERSION:2.0
PRODID:-//Petri Räisänen - ECPv6.15.11//NONSGML v1.0//EN
CALSCALE:GREGORIAN
METHOD:PUBLISH
X-WR-CALNAME:Petri Räisänen
X-ORIGINAL-URL:https://petriraisanen.com
X-WR-CALDESC:Events for Petri Räisänen
REFRESH-INTERVAL;VALUE=DURATION:PT1H
X-Robots-Tag:noindex
X-PUBLISHED-TTL:PT1H
BEGIN:VTIMEZONE
TZID:UTC
BEGIN:STANDARD
TZOFFSETFROM:+0000
TZOFFSETTO:+0000
TZNAME:UTC
DTSTART:20220101T000000
END:STANDARD
END:VTIMEZONE
BEGIN:VEVENT
DTSTART;VALUE=DATE:20230928
DTEND;VALUE=DATE:20231002
DTSTAMP:20260420T003255
CREATED:20230426T080141Z
LAST-MODIFIED:20230426T080141Z
UID:12441-1695859200-1696204799@petriraisanen.com
SUMMARY:Ashtanga Yoga Uppsala\, Sweden\, September 28 - October 1\, 2023
DESCRIPTION:Uppsala is the old educational capital of Sweden and one of the most beautiful towns with stone buildings\, flower gardens\, castle and river in the middle of the town. It is a a pleasure for the mind just to want through the town. \nWe’ve been teaching together with Anne-Lie the workshops for more than 20 years. The shala is always warm and there is a great Ashtanga community around. The trip from Stockholm or Arlanda airport is about 30 minutes. Easy access. \nWelcome to practice and feel the energy of the warm Ashtanga community. \nWith hugs\, \nPetri and Anne-Lie
URL:https://petriraisanen.com/event/ashtanga-yoga-uppsala-sweden-september-28-october-1-2023/
CATEGORIES:Workshops
ATTACH;FMTTYPE=image/jpeg:https://petriraisanen.com/wp-content/uploads/2023/04/IMG_3465-1.jpeg
END:VEVENT
END:VCALENDAR