BEGIN:VCALENDAR
VERSION:2.0
PRODID:-//Petri Räisänen - ECPv6.15.11//NONSGML v1.0//EN
CALSCALE:GREGORIAN
METHOD:PUBLISH
X-ORIGINAL-URL:https://petriraisanen.com
X-WR-CALDESC:Events for Petri Räisänen
REFRESH-INTERVAL;VALUE=DURATION:PT1H
X-Robots-Tag:noindex
X-PUBLISHED-TTL:PT1H
BEGIN:VTIMEZONE
TZID:UTC
BEGIN:STANDARD
TZOFFSETFROM:+0000
TZOFFSETTO:+0000
TZNAME:UTC
DTSTART:20230101T000000
END:STANDARD
END:VTIMEZONE
BEGIN:VEVENT
DTSTART;VALUE=DATE:20240202
DTEND;VALUE=DATE:20240205
DTSTAMP:20260420T123331
CREATED:20231217T103017Z
LAST-MODIFIED:20231217T103017Z
UID:13019-1706832000-1707091199@petriraisanen.com
SUMMARY:Ashtanga House Faro\, Portugal\, February 2-4 2024
DESCRIPTION:It is our second time in Faro with Ricardo and Ines in their lovely home shala. We are living just 1.5 hours to the north on the coast road (Odeceixe)\, so it is also our “local” workshop. \nWe are focusing for ashtanga and individual practice. How to practice ashtanga in modern times with many responsibilities. How to keep ashtanga in your live in challenging times and while ageing and changing. \nMorning Mysore classes and afternoon workshops and pranayama & meditation sessions. \nPlease check the schedule from www.ashtangahousefaro.com \nHope to meet you in Faro and talk more : ) \nBig hugs\, \nPetri\, Ricardo and Ines
URL:https://petriraisanen.com/event/ashtanga-house-faro-portugal-february-2-4-2024/
LOCATION:Ashtanga House Faro\, Estr. da Sra. da Saude 66\, Faro\, Algarve\, 8000-498\, Portugal
CATEGORIES:Workshops
ATTACH;FMTTYPE=image/jpeg:https://petriraisanen.com/wp-content/uploads/2023/12/Faro-2024-flyer.jpg
ORGANIZER;CN="Ashtanga House Faro":MAILTO:ashtangahousefaro@gmail.com
END:VEVENT
END:VCALENDAR