BEGIN:VCALENDAR
VERSION:2.0
PRODID:-//Petri Räisänen - ECPv6.15.11//NONSGML v1.0//EN
CALSCALE:GREGORIAN
METHOD:PUBLISH
X-ORIGINAL-URL:https://petriraisanen.com
X-WR-CALDESC:Events for Petri Räisänen
REFRESH-INTERVAL;VALUE=DURATION:PT1H
X-Robots-Tag:noindex
X-PUBLISHED-TTL:PT1H
BEGIN:VTIMEZONE
TZID:UTC
BEGIN:STANDARD
TZOFFSETFROM:+0000
TZOFFSETTO:+0000
TZNAME:UTC
DTSTART:20230101T000000
END:STANDARD
END:VTIMEZONE
BEGIN:VEVENT
DTSTART;VALUE=DATE:20241114
DTEND;VALUE=DATE:20241118
DTSTAMP:20260420T150920
CREATED:20240430T141027Z
LAST-MODIFIED:20240505T173546Z
UID:13571-1731542400-1731887999@petriraisanen.com
SUMMARY:Yoga Point Utrecht\, Netherlands\, November 14-17\, 2024
DESCRIPTION:Yoga Point Utrecht\, Netherlands\, November 14-17\, 2024 \n  \nLast November was my first visit at Yoga Point and Utrecht town and I really loved the shala and the perfect size of the town. The canals\, old buildings\, cafes and two surpassingly good South Indian restaurants. It is easy to bicycle around and enjoy the beauty. \nPerry Coomans has been doing a great work with the shala. The location by the canal is just perfect. From the downstairs shala (there is two shalas\, up and down) you can open the door outside and see the small waves moving in the canal and on the sunny mornings it feels like watching a beautiful slow film while practicing or teaching in the shala. \nThe workshop will be for four days. Friday morning till Monday morning. Drop in option is also available. \nWelcome to Utrecht and Yoga Point! \nWarmly\, \nPetri and Perry
URL:https://petriraisanen.com/event/yoga-point-utrecht-netherlands-november-14-17-2024/
CATEGORIES:Workshops
ATTACH;FMTTYPE=image/jpeg:https://petriraisanen.com/wp-content/uploads/2024/04/Yoga-Point-with-canal.jpg
END:VEVENT
END:VCALENDAR