BEGIN:VCALENDAR
VERSION:2.0
PRODID:-//Petri Räisänen - ECPv6.15.11//NONSGML v1.0//EN
CALSCALE:GREGORIAN
METHOD:PUBLISH
X-WR-CALNAME:Petri Räisänen
X-ORIGINAL-URL:https://petriraisanen.com
X-WR-CALDESC:Events for Petri Räisänen
REFRESH-INTERVAL;VALUE=DURATION:PT1H
X-Robots-Tag:noindex
X-PUBLISHED-TTL:PT1H
BEGIN:VTIMEZONE
TZID:America/New_York
BEGIN:DAYLIGHT
TZOFFSETFROM:-0500
TZOFFSETTO:-0400
TZNAME:EDT
DTSTART:20200308T070000
END:DAYLIGHT
BEGIN:STANDARD
TZOFFSETFROM:-0400
TZOFFSETTO:-0500
TZNAME:EST
DTSTART:20201101T060000
END:STANDARD
BEGIN:DAYLIGHT
TZOFFSETFROM:-0500
TZOFFSETTO:-0400
TZNAME:EDT
DTSTART:20210314T070000
END:DAYLIGHT
BEGIN:STANDARD
TZOFFSETFROM:-0400
TZOFFSETTO:-0500
TZNAME:EST
DTSTART:20211107T060000
END:STANDARD
BEGIN:DAYLIGHT
TZOFFSETFROM:-0500
TZOFFSETTO:-0400
TZNAME:EDT
DTSTART:20220313T070000
END:DAYLIGHT
BEGIN:STANDARD
TZOFFSETFROM:-0400
TZOFFSETTO:-0500
TZNAME:EST
DTSTART:20221106T060000
END:STANDARD
END:VTIMEZONE
BEGIN:VTIMEZONE
TZID:UTC
BEGIN:STANDARD
TZOFFSETFROM:+0000
TZOFFSETTO:+0000
TZNAME:UTC
DTSTART:20190101T000000
END:STANDARD
END:VTIMEZONE
BEGIN:VTIMEZONE
TZID:Europe/Helsinki
BEGIN:DAYLIGHT
TZOFFSETFROM:+0200
TZOFFSETTO:+0300
TZNAME:EEST
DTSTART:20190331T010000
END:DAYLIGHT
BEGIN:STANDARD
TZOFFSETFROM:+0300
TZOFFSETTO:+0200
TZNAME:EET
DTSTART:20191027T010000
END:STANDARD
BEGIN:DAYLIGHT
TZOFFSETFROM:+0200
TZOFFSETTO:+0300
TZNAME:EEST
DTSTART:20200329T010000
END:DAYLIGHT
BEGIN:STANDARD
TZOFFSETFROM:+0300
TZOFFSETTO:+0200
TZNAME:EET
DTSTART:20201025T010000
END:STANDARD
BEGIN:DAYLIGHT
TZOFFSETFROM:+0200
TZOFFSETTO:+0300
TZNAME:EEST
DTSTART:20210328T010000
END:DAYLIGHT
BEGIN:STANDARD
TZOFFSETFROM:+0300
TZOFFSETTO:+0200
TZNAME:EET
DTSTART:20211031T010000
END:STANDARD
END:VTIMEZONE
BEGIN:VTIMEZONE
TZID:Europe/Moscow
BEGIN:STANDARD
TZOFFSETFROM:+0300
TZOFFSETTO:+0300
TZNAME:MSK
DTSTART:20190101T000000
END:STANDARD
END:VTIMEZONE
BEGIN:VEVENT
DTSTART;TZID=America/New_York:20210904T090000
DTEND;TZID=America/New_York:20210904T120000
DTSTAMP:20260420T123329
CREATED:20210817T084013Z
LAST-MODIFIED:20210828T180410Z
UID:11507-1630746000-1630756800@petriraisanen.com
SUMMARY:Miami Yoga Center On-Line workshop in September 4 2021
DESCRIPTION:It has been a great pleasure to teach for MYC and my old friends Tim and Kino. \nWe will do a full Primary series led class followed by one hour discussion and Q/A session. \nWelcome to practice..on Saturday September 4th at 9:00-12:00 EDT \nWarmly\, Petri \nHere is a flyer.. \nMiami Life Center 4.9.2021.rtfd \nand registartions.. \nEventbrite: https://www.eventbrite.com/e/166531699797 \n  \nPhoto by Santiago Pinto
URL:https://petriraisanen.com/event/miami-yoga-center-on-line-workshop-in-september-4-2021/
CATEGORIES:On-line courses,Workshops
ATTACH;FMTTYPE=image/jpeg:https://petriraisanen.com/wp-content/uploads/2021/08/IMG_3918.jpg
END:VEVENT
BEGIN:VEVENT
DTSTART;VALUE=DATE:20210423
DTEND;VALUE=DATE:20210801
DTSTAMP:20260420T123329
CREATED:20210211T102152Z
LAST-MODIFIED:20210427T091730Z
UID:11334-1619136000-1627775999@petriraisanen.com
SUMMARY:Petri's Online Workshops in April - July 2021
DESCRIPTION:All the Online workshops are open for everyone who want to practice with Petri Online. The registrations and information for the workshops you can find from the host’s websites. This is a great opportunity to practice and feel the Ashtanga community from your own location. Welcome to join and practice! – Petri \n  \nApril 3\, 2021 \nMiami Life Center Online WS \nhttps://www.eventbrite.com/e/led-full-primary-conference-and-qa-with-petri-raisanen-tickets-146145853181 \nwww.miamilifecenter.com \nApril 10\, 2021 \nKeen on Yoga Online WS \nwww.keenonyoga.com \nApril 11\, 2021 \nOnline WS \nBy Alexander Smirkin and Oksana Gorkina \nMoscow & St. Petersburg\, Russia \nwww.smirkin.blog/2021/02/petri.html \nApril 23-25\, 2021 \nOnline WS \nPuro Yoga \nOslo\, Norway \nwww.puroyoga.no  \nJune 19\, 2021 \nMiami Life Center Online WS \nwww.miamilifecenter.com \nJune 27\, 2021 \nDonation Online Workshop for \nCampaign against hunger in the community in Brazil due the great negative effects of the pandemic. \nJuly 31\, 2021 \nKeen on Yoga Online WS \nwww.keenonyoga.com
URL:https://petriraisanen.com/event/petris-online-workshops-in-march-april-2021/
CATEGORIES:On-line courses,Workshops
ATTACH;FMTTYPE=image/jpeg:https://petriraisanen.com/wp-content/uploads/2017/05/aolut.jpg
END:VEVENT
BEGIN:VEVENT
DTSTART;VALUE=DATE:20210206
DTEND;VALUE=DATE:20210207
DTSTAMP:20260420T123329
CREATED:20200927T131542Z
LAST-MODIFIED:20210201T094459Z
UID:11147-1612569600-1612655999@petriraisanen.com
SUMMARY:Keen on Yoga\, Online workshop\, February 6 2021
DESCRIPTION:We did a Podcast with Adam from Keen on Yoga in September 15th 2020 and decided to do a workshop with an important subject of Therapeutic Hands On Adjustments & Healing Touch. There will be a theory and practice and Q/A in the end. Welcome to join On-line!
URL:https://petriraisanen.com/event/keen-on-yoga-zoom-on-line-workshop-october-31-2020/
CATEGORIES:On-line courses,Workshops
ATTACH;FMTTYPE=image/png:https://petriraisanen.com/wp-content/uploads/2020/09/Petri-Feb-FB-Post-V2-6.2.2021.png
END:VEVENT
BEGIN:VEVENT
DTSTART;VALUE=DATE:20201226
DTEND;VALUE=DATE:20201227
DTSTAMP:20260420T123329
CREATED:20201225T090714Z
LAST-MODIFIED:20201225T111819Z
UID:11240-1608940800-1609027199@petriraisanen.com
SUMMARY:Russian On-line class in December 26th 2020
DESCRIPTION:Dear friend\, students and/or colleague\, \nYou are welcomed for the Boxing Day On-line class organised by Alexander Smirkin and Russian Ashtangis. We will start at 7am (Finnish time) and 8am (Moscow time). I will guide a Primary series and Intermediate series up to Ustrasana\, followed by Pranayama\, Relaxation and Yoga discussion. It will be about 3.5 hours workshop (you don’t have to stay on-line for the whole time). \nPlease register here..https://www.smirkin.blog/2020/12/petriny21.html \nHappy Holiday season! Hope to see you On-line or in Live very soon! \nChristmas hugs\, \nPetri and Alexander
URL:https://petriraisanen.com/event/russian-on-line-class-in-december-26th-2020/
CATEGORIES:On-line courses,Workshops
ATTACH;FMTTYPE=image/jpeg:https://petriraisanen.com/wp-content/uploads/2018/02/20170930_PETRIRAISANEN_TORINO_021_HIGH_res.jpg
END:VEVENT
BEGIN:VEVENT
DTSTART;VALUE=DATE:20201205
DTEND;VALUE=DATE:20210214
DTSTAMP:20260420T123329
CREATED:20201123T192850Z
LAST-MODIFIED:20201201T082812Z
UID:11197-1607126400-1613260799@petriraisanen.com
SUMMARY:On-Line Workshop Calendar 2020-2021
DESCRIPTION:Dearest friends\, students and colleagues\, \nThere is at least one positive thing with this Covid-19 pandemia..that the world is more connected via On-line classes\, workshops and courses. There is plenty of On-line classes with a great teachers which wouldn’t be available without the pandemia. Actually there is so many of them that it can become confusing : ) \nPetri and Wambui are still teaching the workshops and classes in Finland and we are living a family life which means that we have a limited time for the On-line classes..but here is some of them and we are happy to see the students practicing during the lockdowns and restrictions in the shala and On-line. \nWambui’s own schedule can be found from www.wambuinjuguna.com and from her Instagram and Facebook @wellnesswithwambui. \nPetri’s On-line classes list is here below..registrations through the workshop websites! \nNovember 28\, 2020 \nYoga in Salento On-line \nwww.yogainsalento.com \nDecember 5\, 2020 \nPuro Yoga On-line \nwww.puroyoga.no \nDecember 6\, 2020 \nMy Yoga Shala Marseille On-line \nwww.myyogamarseille.fr \nFebruary 6 2021 \nKeen On Yoga On-line \nwww.keenonyoga.co.uk
URL:https://petriraisanen.com/event/on-line-workshop-calendar-2020-2021/
CATEGORIES:On-line courses,Workshops
ATTACH;FMTTYPE=image/jpeg:https://petriraisanen.com/wp-content/uploads/2020/11/Petri-On-line-by-the-lake.jpeg
END:VEVENT
BEGIN:VEVENT
DTSTART;VALUE=DATE:20200822
DTEND;VALUE=DATE:20200824
DTSTAMP:20260420T123329
CREATED:20200726T092013Z
LAST-MODIFIED:20200818T053308Z
UID:11055-1598054400-1598227199@petriraisanen.com
SUMMARY:Purple Valley Yoga Goa\, On-line workshop\, August 22-23 2020
DESCRIPTION:Purple Valley Yoga On-line Schedule 22-23.8.2020 \nWelcome for Petri’s and Wambui’s On-line workshop organised by Purple Valley Yoga\, Goa. Here is the schedule for the two day intensive! \nhttps://www.purplevalleygoa.com/bookings-checkout/petri-wambui \nSaturday Aug 22 \n08.00-10.30 Led Primary and the first 6 poses from the Intermediate series with light pranayama: the “traditional” vinyasa count with steady pace\, suitable for all practitioners. The practice is guided all the way to the Intermediate series pose Ustrasana\, but the practitioner can choose when to stop\, when to have breaks and do asana modifications.    \n11.00-12.30 Guided Accessible Half Primary series: suitable for beginners; older practitioners; those recovering from injury; more abundantly-bodied practitioners. The use of props such as blocks\, bolsters\, chairs\, wall is welcome and guided instruction on these can be provided as needed.  \n14:00-15:30 Workshop: Off the Mat: Spiritual Practice as Sacred Activism \nThis workshop is suitable for yoga practitioners\, shala and studio owners who wish to co-create more equity and community care in yoga and wellness spaces. We’ll look at how to take the insight gained from our spiritual practices and apply them back into this beautiful\, burning world. What is our role as yoga practitioners around anti-Black racism and systemic oppression? How can we embody love and compassion in a way that doesn’t spiritually bypass ‘the hard topics?’ Bring a pen and paper and a brave\, open heart. \n15:30-16:00 Meditation \nSunday Aug 23 \n08.00-10.30. Mysore style/self practice\, all levels. \n11:30-13:00 Workshop: Asana practice and adjustments for all body and mind types  \nWe are all body types\, shapes and ages. What is easy for one student can be impossible for someone else. That doesn’t mean that someone is doing a better or worst yoga. How we can observe the students body and mind types and be flexible with the “traditional” Ashtanga system? Making the practice comfortable for all the students and creating a safe zone to be who you are.  \n15.00-16.00 Q & A\, Finishing Circle
URL:https://petriraisanen.com/event/purple-valley-yoga-goa-on-line-workshop-august-22-23-2020/
CATEGORIES:On-line courses,Workshops
ATTACH;FMTTYPE=image/jpeg:https://petriraisanen.com/wp-content/uploads/2020/07/IMG_6175-e1595758997944.jpeg
END:VEVENT
BEGIN:VEVENT
DTSTART;TZID=UTC:20200712T080000
DTEND;TZID=UTC:20200712T170000
DTSTAMP:20260420T123329
CREATED:20200620T141450Z
LAST-MODIFIED:20200620T141827Z
UID:10884-1594540800-1594573200@petriraisanen.com
SUMMARY:Yoga in Salento YIS Support On-line Led class in July 12 2020
DESCRIPTION:AYS Salento supposed to start the retreat season in April 2020\, but now all the spring and summer (also mine retreat in June) has been cancelled and the resort is suffering a big financial loss. This Primary series + The beginning of the Intermediate series Led class\, discussion\, sharing and Q/A will be held on Sunday morning between 8am-11am (Italian time UTC +2). \nPlease contact YIS at info@yogainsalento.com and see more info at https://yogainsalento.com/online-classes/ \nWelcome to practice on-line. Looking forward to see you : ) \nWarmly\, \nPetri \nP.S. The retreat from the June 13-26 2020 (so far) has been moved to June 12 – 26 2021.
URL:https://petriraisanen.com/event/yoga-in-salento-yis/
CATEGORIES:On-line courses,Workshops
ATTACH;FMTTYPE=image/jpeg:https://petriraisanen.com/wp-content/uploads/2019/09/IMG_2701.jpeg
END:VEVENT
BEGIN:VEVENT
DTSTART;TZID=UTC:20200711T160000
DTEND;TZID=UTC:20200712T190000
DTSTAMP:20260420T123329
CREATED:20200521T182039Z
LAST-MODIFIED:20200604T081708Z
UID:10722-1594483200-1594580400@petriraisanen.com
SUMMARY:Finnish Folk Energy Healing On-line Course 2 in July 11-12 2020
DESCRIPTION:Photo: Petri at the health exhibition in 1994\nOne option for Course 2: July 11+12\n(Saturday 16pm-19pm & Sunday 16pm-19pm Finnish time EEST)\nIn this workshop\, you will learn and practice several energy-healing techniques from the Finnish tradition which Petri learned from Finnish master healers Pentti Penttilä\, Pentti Mäkelä and Raimo Holtti. The techniques come from the ancient Finnish healing tradition called Jäsenkorjaus (bone or limb setting) and is\, in many parts\, similar to osteopathy. Some of the techniques used in this tradition involve giving physical adjustments\, energy healing\, herbal healing\, wet and dry cupping and healing with power words (similar with mantras). The workshop will cover mainly the energy healing part with few gentle physical adjustments on the different parts of the body. \nThese energy-healing techniques are based on sensing and locating the blocks in the flow of energy throughout the body. A perfect supplementation to yoga teachers and body workers who wish to increase their sensitivity when working with yoga students and/or clients. \nThe Energy healing Workshop 1 is necessary before doing the workshop 2 if you haven’t done before the workshop with Petri. All the energy work will be done for the partner so attending for the workshop would need two people in the same space and it is better if the both people will attend for the workshop for to give and receive the treatment. \nPetri began his Energy healing studies in Kaustinen\, Finland in 1986. In addition to teaching yoga\, Petri worked as a folk healer and naturopath and ran a natural treatment business in Helsinki\, Finland from 1991-1998. He has been teaching an energy healing workshops since 2005 and spreading the Finnish traditional healing knowledge worldwide. \nEnergy Healing workshop 1 is necessary before doing the second workshop\, if you haven’t done the workshop with Petri prior. All the energy work will be done on a partner so  two people in the same space will be required. We recommend that both people attend the workshop\, to give and receive the treatment. \nThe workshop will be held through Zoom and we will send you the meeting links before the workshops starts. \nIf it’s not possible to find a partner\, let us know and we can work something out. \nWhat you’ll be learning: \nEnergy Healing Workshop 2: \n\nHow to give long and short-distance energy healing\nHow to adjust and move the pain sensation\nHow to do energy acupuncture\nHow to heal stomach and head ache\nHow to move the body without physical touch (mental hypnosis)\nBalancing your own energy after the healing work\n\nThe price for one workshop is 70€ and 120€ for two people. Please register through sending the email to Petri at praisanen@yahoo.com. The workshop will be paid by bank transfer to Maailmanparantaja Oy before the workshop starts. \nIn case of cancellation the payment is not refundable after June 26th 2020. Before June 26th\, a full refund (minus 20€ for management costs) is given. Please email your bank account number for the refund if needed. \nPayment Options x 3\nBank transfer\nAccount details: \nTo: Maailmanparantaja Oy \nBank: \nNordea Bank Finland \nAccount IBAN: FI56 1237 3000 1390 78 \nSwift code: NDEAFIHH \nMessage: \nEnergy Healing\, your name and date. \nPayPal to\npaypal.me/raisanen\nIn PayPal payments there is a commission about 4€ from 70€..so could you please add 4 € to your amount or make sure that you are paying the right amount. \nLow cost international transfer\nhttp://transferwise.com/\nSome students ts has been using this transfer and the commission is lower than in PayPal or normal bank transfer..especially if you are paying from the US or Asia.
URL:https://petriraisanen.com/event/july-11-12-2020/
CATEGORIES:On-line courses,Workshops
ATTACH;FMTTYPE=image/jpeg:https://petriraisanen.com/wp-content/uploads/2020/05/Petri-at-the-health-exhibition-in-1994.jpg
ORGANIZER;CN="Petri and Wambui":MAILTO:praisanen@yahoo.com
END:VEVENT
BEGIN:VEVENT
DTSTART;TZID=UTC:20200627T160000
DTEND;TZID=UTC:20200628T190000
DTSTAMP:20260420T123329
CREATED:20200521T181913Z
LAST-MODIFIED:20200604T081635Z
UID:10718-1593273600-1593370800@petriraisanen.com
SUMMARY:Finnish Folk Energy Healing On-line Course 1 in June 27-28 2020
DESCRIPTION:Photo: Folk Healers at Kultsa\, Helsinki 1994\, (Petri on the left)\nFINNISH FOLK ENERGY HEALING COURSE 1 & 2:\nCourse 1: June 27 + 28 \n(Saturday 16pm-19pm & Sunday 16pm-19pm Finnish time EEST)\nOne option for Course 2: July 11+12\nIn this workshop\, you will learn and practice several energy-healing techniques from the Finnish tradition which Petri learned from Finnish master healers Pentti Penttilä\, Pentti Mäkelä and Raimo Holtti. The techniques come from the ancient Finnish healing tradition called Jäsenkorjaus (bone or limb setting) and is\, in many parts\, similar to osteopathy. Some of the techniques used in this tradition involve giving physical adjustments\, energy healing\, herbal healing\, wet and dry cupping and healing with power words (similar with mantras). The workshop will cover mainly the energy healing part with few gentle physical adjustments on the different parts of the body. \nThese energy-healing techniques are based on sensing and locating the blocks in the flow of energy throughout the body. A perfect supplementation to yoga teachers and body workers who wish to increase their sensitivity when working with yoga students and/or clients. \nThe Energy healing Workshop 1 is necessary before doing the workshop 2 if you haven’t done before the workshop with Petri. All the energy work will be done for the partner so attending for the workshop would need two people in the same space and it is better if the both people will attend for the workshop for to give and receive the treatment. \nPetri began his Energy healing studies in Kaustinen\, Finland in 1986. In addition to teaching yoga\, Petri worked as a folk healer and naturopath and ran a natural treatment business in Helsinki\, Finland from 1991-1998. He has been teaching an energy healing workshops since 2005 and spreading the Finnish traditional healing knowledge worldwide. \nEnergy Healing workshop 1 is necessary before doing the second workshop\, if you haven’t done the workshop with Petri prior. All the energy work will be done on a partner so  two people in the same space will be required. We recommend that both people attend the workshop\, to give and receive the treatment. \nThe workshop will be held through Zoom and we will send you the meeting links before the workshops starts. \nIf it’s not possible to find a partner\, let us know and we can work something out. \nWhat you’ll be learning: \nEnergy Healing Workshop 1: \n\nThe history of the (Finnish) healing tradition\nHealing methods\nHealing issues (when to heal and when not)\nHow to connect with the patience in energy level\nHow to sense the energy layers and blocks (usually pain) without touching the body\nHow to relax with the energy\nHow the use the foot reflection/acu point and locate the pain from the foot\nHow to do energy purification\nHow to balance your own energy after the healing work\n\nEnergy Healing Workshop 2: \n\nHow to give long and short-distance energy healing\nHow to adjust and move the pain sensation\nHow to do energy acupuncture\nHow to heal stomach and head ache\nHow to move the body without physical touch (mental hypnosis)\nBalancing your own energy after the healing work\n\nThe price for one workshop is 70€ and 120€ for two people. Please register through sending the email to Petri at praisanen@yahoo.com. The workshop will be paid by bank transfer to Maailmanparantaja Oy before the workshop starts. \nIn case of cancellation the payment is not refundable after June 26th 2020. Before June 26th\, a full refund (minus 20€ for management costs) is given. Please email your bank account number for the refund if needed. \nPayment Options x 3\nBank transfer\nAccount details: \nTo: Maailmanparantaja Oy \nBank: \nNordea Bank Finland \nAccount IBAN: FI56 1237 3000 1390 78 \nSwift code: NDEAFIHH \nMessage: \nEnergy Healing\, your name and date. \nPayPal to\npaypal.me/raisanen\nIn PayPal payments there is a commission about 4€ from 70€..so could you please add 4 € to your amount or make sure that you are paying the right amount. \nLow cost international transfer\nhttp://transferwise.com/\nSome students ts has been using this transfer and the commission is lower than in PayPal or normal bank transfer..especially if you are paying from the US or Asia.
URL:https://petriraisanen.com/event/june-27-28-2020/
CATEGORIES:On-line courses,Workshops
ATTACH;FMTTYPE=image/jpeg:https://petriraisanen.com/wp-content/uploads/2020/05/Kansanparantajat-Kultsalla1994-Raimo-on-the-right-edit.jpeg
ORGANIZER;CN="Petri and Wambui":MAILTO:praisanen@yahoo.com
END:VEVENT
BEGIN:VEVENT
DTSTART;TZID=Europe/Helsinki:20200626T080000
DTEND;TZID=Europe/Helsinki:20200626T110000
DTSTAMP:20260420T123329
CREATED:20200510T083236Z
LAST-MODIFIED:20200623T082210Z
UID:10637-1593158400-1593169200@petriraisanen.com
SUMMARY:Yoga in Salento YIS Support On-line Led class in June 26 2020
DESCRIPTION:AYS Salento supposed to start the retreat season in April 2020\, but now all the spring and summer (also mine retreat in June) has been cancelled and the resort is suffering a big financial loss. This Primary series + The beginning of the Intermediate series Led class\, discussion\, sharing and Q/A will be held on Friday morning between 8am-11am (Italian time UTC +2). \nPlease contact YIS at info@yogainsalento.com and see more info at https://yogainsalento.com/online-classes/ \nWelcome to practice on-line. Looking forward to see you : ) \nWarmly\, \nPetri \nP.S. The retreat from the June 13-26 2020 (so far) has been moved to June 12 – 26 2021.
URL:https://petriraisanen.com/event/yoga-in-salento-yis-support-on-line-led-class-may-15-2020/
LOCATION:Salento\, Italy\, Puglia\, Italy
CATEGORIES:On-line courses,Workshops
ATTACH;FMTTYPE=image/jpeg:https://petriraisanen.com/wp-content/uploads/2020/05/On-line-teaching-Hel-42020.jpg
END:VEVENT
BEGIN:VEVENT
DTSTART;TZID=Europe/Moscow:20200530T160000
DTEND;TZID=Europe/Moscow:20200531T190000
DTSTAMP:20260420T123329
CREATED:20200521T181554Z
LAST-MODIFIED:20200530T054310Z
UID:10712-1590854400-1590951600@petriraisanen.com
SUMMARY:Finnish Folk Energy Healing On-line Course 1 in May 30-31 2020
DESCRIPTION:Photo: Petri is setting the bones in 1994\nFINNISH FOLK ENERGY HEALING COURSE 1 & 2:\nTwo options for Course 1: May 30+31 & June 27 + 28\n(Saturday 16pm-19pm & Sunday 16pm-19pm Finnish time EEST)\nOne option for Course 2: July 11+12\nIn this workshop\, you will learn and practice several energy-healing techniques from the Finnish tradition which Petri learned from Finnish master healers Pentti Penttilä\, Pentti Mäkelä and Raimo Holtti. The techniques come from the ancient Finnish healing tradition called Jäsenkorjaus (bone or limb setting) and is\, in many parts\, similar to osteopathy. Some of the techniques used in this tradition involve giving physical adjustments\, energy healing\, herbal healing\, wet and dry cupping and healing with power words (similar with mantras). The workshop will cover mainly the energy healing part with few gentle physical adjustments on the different parts of the body. \nThese energy-healing techniques are based on sensing and locating the blocks in the flow of energy throughout the body. A perfect supplementation to yoga teachers and body workers who wish to increase their sensitivity when working with yoga students and/or clients. \nThe Energy healing Workshop 1 is necessary before doing the workshop 2 if you haven’t done before the workshop with Petri. All the energy work will be done for the partner so attending for the workshop would need two people in the same space and it is better if the both people will attend for the workshop for to give and receive the treatment. \nPetri began his Energy healing studies in Kaustinen\, Finland in 1986. In addition to teaching yoga\, Petri worked as a folk healer and naturopath and ran a natural treatment business in Helsinki\, Finland from 1991-1998. He has been teaching an energy healing workshops since 2005 and spreading the Finnish traditional healing knowledge worldwide.  \nEnergy Healing workshop 1 is necessary before doing the second workshop\, if you haven’t done the workshop with Petri prior. All the energy work will be done on a partner so  two people in the same space will be required. We recommend that both people attend the workshop\, to give and receive the treatment.  \nThe workshop will be held through Zoom and we will send you the meeting links before the workshops starts. \nIf it’s not possible to find a partner\, let us know and we can work something out. \nWhat you’ll be learning: \nEnergy Healing Workshop 1: \n\nThe history of the (Finnish) healing tradition\nHealing methods\nHealing issues (when to heal and when not)\nHow to connect with the patience in energy level  \nHow to sense the energy layers and blocks (usually pain) without touching the body\nHow to relax with the energy \nHow to do energy purification\nHow to balance your own energy after the healing work\n\nEnergy Healing Workshop 2: \n\nHow to give long and short-distance energy healing\nHow to adjust the pain sensation \nHow to do the energy acupuncture \nHow to move the body without physical touch (mental hypnosis)\nBalancing your own energy after the healing work\n\nThe price for one workshop is 70€ and 120€ for two people. Please register through sending the email to Petri at praisanen@yahoo.com. The workshop will be paid by bank transfer to Maailmanparantaja Oy before the workshop starts. \nAccount details: \nTo: Maailmanparantaja Oy \nBank: \nNordea Bank Finland \nAccount IBAN: FI56 1237 3000 1390 78 \nSwift code: NDEAFIHH \nMessage: \nEnergy Healing\, your name and date. \nIn case of cancellation the payment is not refundable after May 29th 2020. Before May 29th\, a full refund (minus 20€ for management costs) is given. Please email your bank account number for the refund if needed.
URL:https://petriraisanen.com/event/finnish-folk-energy-healing-on-line-course-1-in-may-30-31-2020/
CATEGORIES:On-line courses,Workshops
ATTACH;FMTTYPE=image/jpeg:https://petriraisanen.com/wp-content/uploads/2020/05/Petri-is-setting-the-bones-in-1994.jpg
ORGANIZER;CN="Petri and Wambui":MAILTO:praisanen@yahoo.com
END:VEVENT
END:VCALENDAR