BEGIN:VCALENDAR
VERSION:2.0
PRODID:-//Petri Räisänen - ECPv6.15.11//NONSGML v1.0//EN
CALSCALE:GREGORIAN
METHOD:PUBLISH
X-ORIGINAL-URL:https://petriraisanen.com
X-WR-CALDESC:Events for Petri Räisänen
REFRESH-INTERVAL;VALUE=DURATION:PT1H
X-Robots-Tag:noindex
X-PUBLISHED-TTL:PT1H
BEGIN:VTIMEZONE
TZID:UTC
BEGIN:STANDARD
TZOFFSETFROM:+0000
TZOFFSETTO:+0000
TZNAME:UTC
DTSTART:20220101T000000
END:STANDARD
END:VTIMEZONE
BEGIN:VEVENT
DTSTART;VALUE=DATE:20230617
DTEND;VALUE=DATE:20230702
DTSTAMP:20260420T174504
CREATED:20190906T194925Z
LAST-MODIFIED:20230426T074700Z
UID:10190-1686960000-1688255999@petriraisanen.com
SUMMARY:Yoga in Salento\, Puglia\, Italy\, June 17 - July 1 2023
DESCRIPTION:Yoga in Salento is a beautiful resort in the middle of Puglia where the most amazing beaches\, nature and little towns are just a short car drive away. There is a lots of safe and quiet beaches or busy shopping streets for all the holiday needs. \nThe kitchen is famous from it’s tasty brunches and dinners with the master chiefs. \nFor the yogi families..this is a kids friendly retreat. You are mostly welcomed! A kids yoga can be organised if there will be enough kids\, but even without yoga there is a lots of great things to do! We can also have a separate beginners classes on the first two days of the both weeks. After two days the beginners will start the Mysore classes\, but will be taken care by the teachers. \nPetri and Wambui will teach together the morning Mysore classes. Afternoon classes will be held by Petri or Wambui separately. \nWelcome to enjoy the yoga and Italian warm summer! \nWarmly\, \nPetri and Wambui
URL:https://petriraisanen.com/event/yoga-in-salento-puglia-italy-june-12-26-2021/
CATEGORIES:Retreats
ATTACH;FMTTYPE=image/jpeg:https://petriraisanen.com/wp-content/uploads/2019/09/48071568-f903-48f7-aa17-d2254f024f94.jpg
END:VEVENT
BEGIN:VEVENT
DTSTART;VALUE=DATE:20230725
DTEND;VALUE=DATE:20230730
DTSTAMP:20260420T174504
CREATED:20200407T100501Z
LAST-MODIFIED:20221127T221317Z
UID:10591-1690243200-1690675199@petriraisanen.com
SUMMARY:Tuomisto Mansion Summer Retreat\, Finland July 25–30 2023
DESCRIPTION:Tuomisto mansion is an amazingly beautiful retreat place in the countryside of Finland (about two hours to the north-west from Helsinki\, close to Tampere). Besides a yoga practice there will be pranayama\, technical classes\, discussions and extra program (singing\, chanting\, meditation). We will have access for a traditional Finnish wooden sauna every evening. Bath tub and swim in the lake close by. There will be a delicious home made vegetarian food prepared by a Michelin star chef Jouni Toivanen. He is using a local vegetables and herbs for every meal.  \nPauliina (organiser of the retreat) will assist Petri and take care of the students in and out of the shala. \nHope to see you in Tuomisto in the summer 2023. \nPetri and Pauliina \n  \nPhoto from the Yoga Shala..check the place and more photos https://www.tuomistonkartano.fi
URL:https://petriraisanen.com/event/frantsila-organic-herb-farm-finland-july-28-august-1-2021/
LOCATION:https://www.tuomistonkartano.fi\, Finland
CATEGORIES:Retreats
ATTACH;FMTTYPE=image/jpeg:https://petriraisanen.com/wp-content/uploads/2020/04/IMG_1920.jpg
END:VEVENT
END:VCALENDAR