BEGIN:VCALENDAR
VERSION:2.0
PRODID:-//Petri Räisänen - ECPv6.15.11//NONSGML v1.0//EN
CALSCALE:GREGORIAN
METHOD:PUBLISH
X-ORIGINAL-URL:https://petriraisanen.com
X-WR-CALDESC:Events for Petri Räisänen
REFRESH-INTERVAL;VALUE=DURATION:PT1H
X-Robots-Tag:noindex
X-PUBLISHED-TTL:PT1H
BEGIN:VTIMEZONE
TZID:UTC
BEGIN:STANDARD
TZOFFSETFROM:+0000
TZOFFSETTO:+0000
TZNAME:UTC
DTSTART:20220101T000000
END:STANDARD
END:VTIMEZONE
BEGIN:VEVENT
DTSTART;VALUE=DATE:20231030
DTEND;VALUE=DATE:20231104
DTSTAMP:20260420T202050
CREATED:20230426T081934Z
LAST-MODIFIED:20230928T114530Z
UID:12446-1698624000-1699055999@petriraisanen.com
SUMMARY:Solaris Yoga Workshop / Retreat\, Sicily\, Italy\, October 30 - November 3\, 2023
DESCRIPTION:Solaris Yoga Retreat / Workshop Sicily\nMonaci Delle Terre Nere\nThe historic estate of Monaci delle Terre Nere is located on the slopes of Mount Etna\, the largest active volcano in Europe. With dramatic views over the volcano and the Mediterranean\, this countryside boutique hotel is a very special place. \nThis is a stunning hotel and resort in Sicily\, Italy. Practice with great teachers for one week and enjoy the nature\, silence\, top vegetarian meals and luxurious hosting. \nWe have opened a Drop-in workshop for the local students or the students who won’t be staying at Solaris\, but want to join for the workshop. Please check out the schedule and registration. \nMore info at https://www.instagram.com/solaris.journey/ \n..also a good info about the space at https://www.hotel-boutique.it/monaci-delle-terre-nere-etna-wine-resort/ \nI’m looking forward for this opportunity! \nWarmly\, \nPetri \n 
URL:https://petriraisanen.com/event/solaris-yoga-retreat-sicily-italy-october-30-november-3-2023/
LOCATION:Solaris Academy
CATEGORIES:Retreats,Workshops
ATTACH;FMTTYPE=image/jpeg:https://petriraisanen.com/wp-content/uploads/2023/04/Näyttökuva-2023-4-26-kello-10.11.06.jpeg
END:VEVENT
END:VCALENDAR