BEGIN:VCALENDAR
VERSION:2.0
PRODID:-//Petri Räisänen - ECPv6.15.11//NONSGML v1.0//EN
CALSCALE:GREGORIAN
METHOD:PUBLISH
X-WR-CALNAME:Petri Räisänen
X-ORIGINAL-URL:https://petriraisanen.com
X-WR-CALDESC:Events for Petri Räisänen
REFRESH-INTERVAL;VALUE=DURATION:PT1H
X-Robots-Tag:noindex
X-PUBLISHED-TTL:PT1H
BEGIN:VTIMEZONE
TZID:UTC
BEGIN:STANDARD
TZOFFSETFROM:+0000
TZOFFSETTO:+0000
TZNAME:UTC
DTSTART:20220101T000000
END:STANDARD
END:VTIMEZONE
BEGIN:VEVENT
DTSTART;VALUE=DATE:20230408
DTEND;VALUE=DATE:20230416
DTSTAMP:20260420T151121
CREATED:20221127T233420Z
LAST-MODIFIED:20221127T233753Z
UID:12070-1680912000-1681603199@petriraisanen.com
SUMMARY:Purple Valley Tenerife Retreat\, April 8-15 2023
DESCRIPTION:After Petri’s and Wambui’s Reterat in March 25 – April 8\, Wambui will continue teaching with Greg Nardi for April 8-15.  \nThis course encourages us to use the tools of yoga for self-reflection and loving accountability. As we come to understand how we are connected through community\, we can make space and/or take our place as the change makers we’ve been waiting for.  \nThis retreat is open for all levels of practitioners – from beginners to advanced. \nBig hugs\, \nWambui and Greg
URL:https://petriraisanen.com/event/purple-valley-tenerife-retreat-april-8-15-2023/
CATEGORIES:Retreats
ATTACH;FMTTYPE=image/jpeg:https://petriraisanen.com/wp-content/uploads/2022/11/Image-10-09-2022-at-08.35-kopio-2.jpeg
END:VEVENT
END:VCALENDAR