BEGIN:VCALENDAR
VERSION:2.0
PRODID:-//Petri Räisänen - ECPv6.15.11//NONSGML v1.0//EN
CALSCALE:GREGORIAN
METHOD:PUBLISH
X-WR-CALNAME:Petri Räisänen
X-ORIGINAL-URL:https://petriraisanen.com
X-WR-CALDESC:Events for Petri Räisänen
REFRESH-INTERVAL;VALUE=DURATION:PT1H
X-Robots-Tag:noindex
X-PUBLISHED-TTL:PT1H
BEGIN:VTIMEZONE
TZID:UTC
BEGIN:STANDARD
TZOFFSETFROM:+0000
TZOFFSETTO:+0000
TZNAME:UTC
DTSTART:20210101T000000
END:STANDARD
END:VTIMEZONE
BEGIN:VEVENT
DTSTART;VALUE=DATE:20220105
DTEND;VALUE=DATE:20220110
DTSTAMP:20260420T213331
CREATED:20211126T163008Z
LAST-MODIFIED:20211126T163008Z
UID:11617-1641340800-1641772799@petriraisanen.com
SUMMARY:Ashtanga Yoga Falkenberg\, Sweden January 5-9 2022
DESCRIPTION:Hanna Mjöberg has been teaching Ashtanga for many years in Falkenberg at her father’s boxing gym\, but now she has opened her own shala. My first visit at the boxing gym shala was in September 2021 for two days. Now we are doing a five day workshop at the new shala in January 5-9 2022. \nHanna has been going to Mysore to practice and assist Sharath Jois and she has been assisting many times in my retreats and workshops. \nWelcome to practice Ashtanga in the small beautiful west coast Swedish town! \nMore info and registrations at www.ashtangayogafalkenberg.com \nWarmly\, Petri and Hanna
URL:https://petriraisanen.com/event/ashtanga-yoga-falkenberg-sweden-january-5-9-2022/
CATEGORIES:Workshops
ATTACH;FMTTYPE=image/jpeg:https://petriraisanen.com/wp-content/uploads/2021/11/IMG_7450-copy.jpeg
END:VEVENT
BEGIN:VEVENT
DTSTART;VALUE=DATE:20220113
DTEND;VALUE=DATE:20220117
DTSTAMP:20260420T213331
CREATED:20211124T125845Z
LAST-MODIFIED:20211124T132704Z
UID:11599-1642032000-1642377599@petriraisanen.com
SUMMARY:Auki Joogakoulu\, Tampere\, Finland January 13-16\, 2022
DESCRIPTION:It will be my second snowy Covid-19 winter in the North. It will give a great opportunity for me to teach in my home country Finland and other northern countries in Europe. \nTampere is always a warm and friendly place to teach and they have the best public saunas in Finland (https://visittampere.fi/en/articles/the-hottest-public-saunas-in-tampere/). \nI’m already looking forward for warming up the body through Ashtanga and sauna with a freezing dip to the lake. \nWelcome to Auki Joogakoulu (Open Yogashala) and to practice in one of the first Ashtanga shalas in Finland. \nWarmly\, \nPetri and Tampere yogis and yoginis \n  \nPhoto by Wambui Njuguna-Räisänen
URL:https://petriraisanen.com/event/auki-joogakoulu-tampere-finland-in-january-13-16-2022/
CATEGORIES:Workshops
ATTACH;FMTTYPE=image/jpeg:https://petriraisanen.com/wp-content/uploads/2021/11/IMG_8909.jpeg
ORGANIZER;CN="www.aukijoogakoulu.fi":MAILTO:aukijoogakoulu@gmail.com
END:VEVENT
BEGIN:VEVENT
DTSTART;VALUE=DATE:20220120
DTEND;VALUE=DATE:20220124
DTSTAMP:20260420T213331
CREATED:20211124T141014Z
LAST-MODIFIED:20211124T141014Z
UID:11612-1642636800-1642982399@petriraisanen.com
SUMMARY:Yogastudion\, Bollnäs\, Sweden January 20-23 2022
DESCRIPTION:It will be my first workshop in Bollnäs\, Sweden. Bollnäs is a beautiful town two hours with train up to the north from Stockholm. The workshop will be part of my winter workshop tour in the Northern Europe. \nElisabeth Andersson has been a regular student in my workshops and retreats for many years. She is organizing and assisting in the workshop. \nWelcome to practice! \nWarmly\, Petri \n  \nPhoto by Marius Krišciukaitis
URL:https://petriraisanen.com/event/yogastudion-bollnas-sweden-january-20-23-2022/
CATEGORIES:Workshops
ATTACH;FMTTYPE=image/jpeg:https://petriraisanen.com/wp-content/uploads/2021/11/Adho-Mukha-Svanasana.jpg
END:VEVENT
END:VCALENDAR