BEGIN:VCALENDAR
VERSION:2.0
PRODID:-//Petri Räisänen - ECPv6.15.11//NONSGML v1.0//EN
CALSCALE:GREGORIAN
METHOD:PUBLISH
X-WR-CALNAME:Petri Räisänen
X-ORIGINAL-URL:https://petriraisanen.com
X-WR-CALDESC:Events for Petri Räisänen
REFRESH-INTERVAL;VALUE=DURATION:PT1H
X-Robots-Tag:noindex
X-PUBLISHED-TTL:PT1H
BEGIN:VTIMEZONE
TZID:UTC
BEGIN:STANDARD
TZOFFSETFROM:+0000
TZOFFSETTO:+0000
TZNAME:UTC
DTSTART:20210101T000000
END:STANDARD
END:VTIMEZONE
BEGIN:VEVENT
DTSTART;VALUE=DATE:20220204
DTEND;VALUE=DATE:20220207
DTSTAMP:20260420T190657
CREATED:20210818T062901Z
LAST-MODIFIED:20220123T171631Z
UID:11533-1643932800-1644191999@petriraisanen.com
SUMMARY:Ashtanga Yoga Sarajevo\, Bosnia and Herzegovina in February 4-6 2022 CANCELLED/POSTPONED
DESCRIPTION:We are sorry to announce that the workshop had to be cancelled as the Covid restrictions and fears effected heavily for the students and attendance. We will postpone the workshop for the future..hopefully in the near future!\n  \nI’m exited to visit the first time in Sarajevo and be able to teach at the Ashtanga Yoga Sarajevo with Mike Zulovich. \nWelcome to practice the Ashtanga Yoga tradition! \nMore info from www.ashtangayogasarajevo.com \nWarmly\, \nPetri and Mike \n  \nPhoto by Tom Rosenthal
URL:https://petriraisanen.com/event/ashtanga-yoga-sarajevo-bornia-and-herzegovina-in-march-11-13-2022/
CATEGORIES:Workshops
ATTACH;FMTTYPE=image/jpeg:https://petriraisanen.com/wp-content/uploads/2019/10/Petri-Vishvamitrasana.jpg
END:VEVENT
BEGIN:VEVENT
DTSTART;VALUE=DATE:20220205
DTEND;VALUE=DATE:20220207
DTSTAMP:20260420T190657
CREATED:20220131T162325Z
LAST-MODIFIED:20220131T162325Z
UID:11631-1644019200-1644191999@petriraisanen.com
SUMMARY:Joogakoulu Auki\, Tampere\, Finland February 5-6 2022
DESCRIPTION:Tampere Ashtanga community is one of the oldest in Finland\, going back to 1993-1994. Besides Ashtanga Yoga Tampere is famous from its amazing public saunas and alternative culture scene. There is the oldest Finnish public sauna called Rajaportti (founded in 1907). \nWelcome to practice\, learn more and being part of the warm hearted Tampere Ashtangis. \nHope to see you there\, \nPetri and Joogakoulu Auki
URL:https://petriraisanen.com/event/joogakoulu-auki-tampere-finland-february-5-6-2022/
CATEGORIES:Workshops
ATTACH;FMTTYPE=image/jpeg:https://petriraisanen.com/wp-content/uploads/2019/05/Hyvä-1-e1556803480461.jpg
ORGANIZER;CN="www.aukijoogakoulu.fi":MAILTO:aukijoogakoulu@gmail.com
END:VEVENT
BEGIN:VEVENT
DTSTART;VALUE=DATE:20220210
DTEND;VALUE=DATE:20220214
DTSTAMP:20260420T190657
CREATED:20200904T154226Z
LAST-MODIFIED:20211016T143122Z
UID:11104-1644451200-1644796799@petriraisanen.com
SUMMARY:Astanga Shala Pori\, Finland\, February 10-13 2022
DESCRIPTION:Astanga Shala Pori has been one of the most active Ashtanga Yoga shalas in Finland for many years. The shala is beautiful and the practitioners join regularly for the workshops. It has always been pleasure to teach at Pauliina’s shala. \nWelcome to practice and learn! \nWarmly\, Petri and Pauliina
URL:https://petriraisanen.com/event/astanga-shala-pori-finland-february-10-13-2022/
CATEGORIES:Workshops
ATTACH;FMTTYPE=image/jpeg:https://petriraisanen.com/wp-content/uploads/2019/09/Pauliina-Petri-copy.jpeg
END:VEVENT
BEGIN:VEVENT
DTSTART;VALUE=DATE:20220223
DTEND;VALUE=DATE:20220228
DTSTAMP:20260420T190657
CREATED:20211014T140341Z
LAST-MODIFIED:20211014T140341Z
UID:11565-1645574400-1646006399@petriraisanen.com
SUMMARY:Astanga Jooga Lappi\, Rovaniemi\, Finland\, February 23-27\, 2022
DESCRIPTION:Astanga Jooga Lappi is in Rovaniemi\, Lapland as the name says in Finnish\, close to Santa Claus Park. In February there will be a real winter with a lots of snow\, beautiful tracks in the nature and northern lights. Our family enjoyed the 2021 workshop time a lot and want to go back. \nWe will arrange a program for the non-local students. Sauna\, husky ride\, nature tracking (short ones)\, skiing and more. Family friendly. \nMore info and registration soon on the website https://www.astangajoogalappi.net \nWelcome to practice in Lapland!
URL:https://petriraisanen.com/event/astanga-jooga-lappi-rovaniemi-finland-february-23-27-2022/
CATEGORIES:Workshops
ATTACH;FMTTYPE=image/jpeg:https://petriraisanen.com/wp-content/uploads/2021/10/IMG_8942.jpeg
END:VEVENT
END:VCALENDAR