BEGIN:VCALENDAR
VERSION:2.0
PRODID:-//Petri Räisänen - ECPv6.15.11//NONSGML v1.0//EN
CALSCALE:GREGORIAN
METHOD:PUBLISH
X-ORIGINAL-URL:https://petriraisanen.com
X-WR-CALDESC:Events for Petri Räisänen
REFRESH-INTERVAL;VALUE=DURATION:PT1H
X-Robots-Tag:noindex
X-PUBLISHED-TTL:PT1H
BEGIN:VTIMEZONE
TZID:UTC
BEGIN:STANDARD
TZOFFSETFROM:+0000
TZOFFSETTO:+0000
TZNAME:UTC
DTSTART:20210101T000000
END:STANDARD
END:VTIMEZONE
BEGIN:VEVENT
DTSTART;VALUE=DATE:20220304
DTEND;VALUE=DATE:20220307
DTSTAMP:20260420T174932
CREATED:20211124T135050Z
LAST-MODIFIED:20220228T180812Z
UID:11607-1646352000-1646611199@petriraisanen.com
SUMMARY:Yoga Spot Minsk\, Belarus March 4-6 2022 CANCELLED
DESCRIPTION:Our thought to have a workshop in Minsk has failed due the war crimes and madness of the Russian and Belarusian politicians and military forces.\nWe are looking for a more peaceful times for the workshop!\nPeace!!!\n  \nThis will be my first workshop and visit in Minsk\, Belarus. Belarus has been in the news for a long time. It is great to be able to teach a workshop for the local ashtangis and share some new energy and sun salutations after a long winter. \nDarya Prudnikova and Julia Rakushka will be organizing and assisting in the workshop. Welcome all the students! \nWarmly\, Petri \n  \nPhoto by Marius Krišciukaitis
URL:https://petriraisanen.com/event/yoga-spot-minsk-belarus-march-4-6-2022/
CATEGORIES:Workshops
ATTACH;FMTTYPE=image/jpeg:https://petriraisanen.com/wp-content/uploads/2021/11/Marichyasana-A.jpg
END:VEVENT
BEGIN:VEVENT
DTSTART;VALUE=DATE:20220305
DTEND;VALUE=DATE:20220307
DTSTAMP:20260420T174932
CREATED:20220228T184347Z
LAST-MODIFIED:20220228T184523Z
UID:11700-1646438400-1646611199@petriraisanen.com
SUMMARY:Astangajooga Jyväskylä\, Jyväskylä\, Finland\, March 5-6 2022
DESCRIPTION:Astangajooga Jyväskylä has always been a friendly and dedicated shala to teach Ashtanga Yoga. The shala is located at the Lutakko cultural center where all the biggest Finnish bands has been playing their gigs and many alternative organisations are having their offices (like YAD). \nWelcome to this two day intensive workshop and to meet Jyväskylä’s Ashtanga community. \nPray\, Act and Meditate for PEACE ❤️ \nPetri and Astangajooga Jyväskylä \n  \nPhoto by Anne Kalliala
URL:https://petriraisanen.com/event/astangajooga-jyvaskyla-jyvaskyla-finland-march-5-6-2022/
CATEGORIES:Workshops
ATTACH;FMTTYPE=image/jpeg:https://petriraisanen.com/wp-content/uploads/2022/02/IMGL6101.jpg
ORGANIZER;CN="Astangajooga Jyv%C3%A4skyl%C3%A4":MAILTO:info@astangajyvaskyla.fi
END:VEVENT
BEGIN:VEVENT
DTSTART;VALUE=DATE:20220324
DTEND;VALUE=DATE:20220328
DTSTAMP:20260420T174932
CREATED:20180227T120521Z
LAST-MODIFIED:20210818T064709Z
UID:8448-1648080000-1648425599@petriraisanen.com
SUMMARY:Ashtanga UsYoga\, Borås\, Sweden\, March 24-27 2022
DESCRIPTION:Ulrica has been running Ashtanga USYoga for many years and it has been always a pleasure to teach with her. Borås is a very cute small town and there is easy to walk everywhere. I’m excited to go back after few years of break and see the Borås Ashtanga community on the mats. Ulrica will be assisting in the classes. \nWelcome to practice and learn more! \nWarmly\, \nPetri and Ulrica \n  \nPhoto by Ulrica
URL:https://petriraisanen.com/event/ashtanga-yoga-boras-sweden/
CATEGORIES:Workshops
ATTACH;FMTTYPE=image/jpeg:https://petriraisanen.com/wp-content/uploads/2018/02/UsYoga-technique-class-2019-Dhanurasana-1.-.jpg
END:VEVENT
END:VCALENDAR