BEGIN:VCALENDAR
VERSION:2.0
PRODID:-//Petri Räisänen - ECPv6.15.11//NONSGML v1.0//EN
CALSCALE:GREGORIAN
METHOD:PUBLISH
X-ORIGINAL-URL:https://petriraisanen.com
X-WR-CALDESC:Events for Petri Räisänen
REFRESH-INTERVAL;VALUE=DURATION:PT1H
X-Robots-Tag:noindex
X-PUBLISHED-TTL:PT1H
BEGIN:VTIMEZONE
TZID:UTC
BEGIN:STANDARD
TZOFFSETFROM:+0000
TZOFFSETTO:+0000
TZNAME:UTC
DTSTART:20240101T000000
END:STANDARD
END:VTIMEZONE
BEGIN:VEVENT
DTSTART;VALUE=DATE:20250402
DTEND;VALUE=DATE:20250407
DTSTAMP:20260419T212841
CREATED:20231119T215131Z
LAST-MODIFIED:20241126T204805Z
UID:12996-1743552000-1743983999@petriraisanen.com
SUMMARY:Ashtanga Yoga St. Cugat (Barcelona)\, Spain\, April 2-6\, 2025
DESCRIPTION:I’m happy for our collaboration with Pol and Yasmina to make the third St. Cugat workshop. Pol and Yasmina has made the shala really beautiful and their generosity and kindness are well known among the students. \nIt will be a five days intensive with Led classes\, Mysore classes and afternoon workshops. In the weekend we will gather with the students for a dinner to the restaurant or one of the parks in the town. \nSt. Cugat is a small cute town about 20 minutes from Barcelona (with fast train). Comparing Barcelona it is a peaceful town but has a charm and enough activities\, parks and restaurants to make it one of the most popular towns for the families close to Barcelona. \nWelcome to practice and enjoy the Catalan (super) friendly Ashtanga community! \nBig hugs\, \nPetri\, Pol and Yasmina
URL:https://petriraisanen.com/event/ashtanga-yoga-st-cugat-barcelona-spain-may-1-5-2024/
CATEGORIES:Workshops
ATTACH;FMTTYPE=image/jpeg:https://petriraisanen.com/wp-content/uploads/2023/11/IMG_5033-scaled.jpg
END:VEVENT
BEGIN:VEVENT
DTSTART;VALUE=DATE:20250415
DTEND;VALUE=DATE:20250420
DTSTAMP:20260419T212841
CREATED:20250115T065125Z
LAST-MODIFIED:20250225T073031Z
UID:14039-1744675200-1745107199@petriraisanen.com
SUMMARY:Yoga Roots Odeceixe\, Portugal\, April 15-19 2025 Dharma for the Heart: Cultivating Qualities of the Heart through Mindfulness and Meditation
DESCRIPTION:Ashtanga Yoga Intensive Week \nDharma for the Heart: Cultivating Qualities of the Heart through Mindfulness and Meditation\n(title courtesy of EBMC/ East Bay Meditation Center) \nA Five Day Workshop with Wambui Njuguna\nApril 15 – 19\, 2025\nYoga Roots Odeceixe\, Portugal\n  \nJoin Wambui Njuguna for a five day workshop intensive at Yoga Roots Odeceixe\, Portugal. The shala is located in the middle of the picturesque and peaceful village on R. Estr. Nacional 1\, 8670-320 Odeceixe\, Portugal. You cannot miss it (Google maps). \n  \nPlease read more about Odeceixe and around\, \naccommodation\, markets\, food\, how to get there \nand activities in Algarve \n\n\n  \n \n\n\n\n\n\n\n           Praia de Odeceixe                                                                                                                                  Yoga Roots Odeceixe\n\nRegistration\, Payment\, Class options\, Schedule and Questions:\nAll registrations\, questions and further info through yogarootsodeceixe@gmail.com \nTo secure your registration\, please pay the workshop to the Yoga Roots Odeceixe bank account. The bank codes and information about the payments and payment options you will find from the end of this site. \n1. Full program \n2. ”Only” Morning practice \n3. Morning practice with some of your chosen drop-in afternoon classes \n4. Weekend program \n5. Separate drop-in classes \n  \nTrauma-Informed Guided Class = Each morning\, you have the option to join in a soft\, slow\, gentle quarter primary series with Wambui. This option is suitable for beginners\, those with mobility concerns and /or recovering from injury; or those who wish to gain the benefit of the Ashtanga Yoga practice but through a trauma-informed framework. \nPranayama = Light\, simple and beneficial breathing exercises for a deeper understanding about the breath and energy work. \nAfternoon Sessions = Discussions\, dharma talks and guided meditation practices \nNOTE: Some of the afternoon classes\, especially Pranayamas can be held outdoors\, if the weather is suitable! \n \nYoga Shala Odeeixe (before the renovation)                                                                                                                             “Chai park” next to the Yoga Shala \n\nTHE SCHEDULE  \nApril 15-19\, 2025 \n\nTuesday 15th \nGuided Trauma-Informed Yoga: 8-9:15am \n11:15-12:15 Welcome Circle workshop opening with Wambui; Getting to know one another + creating safety in the practice \nTea break \n12:30-14:00 Dharma for the Heart: Cultivating Qualities of the Heart through Mindfulness and Meditation Intro \nWednesday 16th \nGuided Trauma-Informed Yoga: 8-9:15am \n11:15-12:15 Trauma-Informed Pranayama \nTea break \n12:30-14:00 Dharma for the Heart: Cultivating Qualities of the Heart through Mindfulness and Meditation: Loving Kindness Practice with Maitri (Unconditional Friendliness) \nThursday 17th \nGuided Trauma-Informed Yoga: 8-9:15am \nFree afternoon \nFriday 18th \nAshtanga Yoga Led Class through an accessible\, trauma informed lens: 8am – 9:30am \n11:15-12:15 Pranayama + Meditation with Wambui: Comfortable\, simple and easy pranayama (breathing exercises) and meditations. Tea break \n12:30-14:00 Dharma for the Heart: Cultivating Qualities of the Heart through Mindfulness and Meditation: Loving Kindness Practice with Karuna (Compassion) \nSaturday 19th \nGuided Trauma-Informed Yoga: 8-9:15am \n11:15-12:15 Pranayama + Meditation with Wambui: Comfortable\, simple and easy pranayama (breathing exercises) and meditations. \nTea break \n12:30-14:00 Dharma for the Heart: Cultivating Qualities of the Heart through Mindfulness and Meditation: Loving Kindness Practice with Mudita (Sympathetic Joy) + Upeksha (Equanimity) \n14:15-14:45 Workshop closing circle \n  \nYoga Shala Odeceixe: \n\n\n\n\n\n\n\nThe shala is located in the middle of the Odeceixe village on R. Estr. Nacional 1\, 8670-320 Odeceixe\, Portugal. You cannot miss it (Google maps) \nWe have all gender dressing rooms and toilet\, but we recommend you come to the shala with your practice clothes on. There is no shower at the shala. As the village is very small\, it is easy to walk to the shala wearing your practice clothes and take shower after the practice at your guest house or other type of accommodation. \nYoga Shala Odeceixe has wooden floor. Yoga mats and blocks are available. Anyhow we recommend bringing your own mats to keep good hygiene and make sure that you have a mat which you like. \nNext to the yoga shala there is a mini market\, bakery and our Chai park where you can sit under the local “holy” tree and sip your well deserved Chai tea (or herbal tea). The village’s coffee shops and restaurants are just around the corner for the breakfast\, hang outs and meals. \nTreatments \nPetri and Wambui are offering treatments during the workshop. Wambui is giving Chavutti Thirumal (massage by foot press) treatments and Petri is giving Energy healing / bone setting treatments. Please let us know if you are interested and we can book a time. \nSmall Yoga Shop downstairs by the office we are selling local natural products. \nPhysical Adjustments and Informed Consent: Touch can be healing and it can harm. A cultural of ongoing informed consent is practiced throughout this workshop. \nOur Big Why:\nWe believe the practice of yoga can heal the world\, both on and off the mat. We also understand yoga to contain wisdom for both individual self- transformation and collective\, societal progress. In this spirit\, we are survivor-centric and survivor-oriented\, and abuse\, sexual assault\, and discrimination of any kind will not be tolerated. This is a caste protected space and we do not subscribe to casteist beliefs or practices. We recognize our aspiration for our yoga spaces to feel welcoming and warm for anyone who wishes to take practice. We continually contemplate how we can make our yoga spaces braver and more accessible to all\, regardless of race\, gender\, ethnicity\, caste\, sexual identity\, class\, age\, nationality\, immigrant status\, disability etc. Our workshop follows braver space guidelines. \n  \nMental Health Disclaimer:\nYoga can be an effective and beneficial tool for reaching a more peaceful state of mind\, managing stress better and getting physically well. Our workshops and retreats are designed for people with normal physical and mental conditions. If you are on medication\, are currently taking (or have taken) therapy and/or counseling\, or have any known mental condition(s) that would in any way hinder your participation in a workshop or retreat\, please inform us\, as well as your doctor/therapist before registering. We do not provide any specialist therapy or counseling at our workshops/retreats who would be able to help\, should the need arise. If a student’s behaviour causes disruption for other workshop participants and the teachers\, he or she will be requested to stop participating in the workshop and to seek appropriate help. In such a situation\, we do not offer refunds\, but are available to provide any documents necessary for insurance claims. \nWorkshop Fees: (including 23% vat) \nFull workshop April 15-19 with 4 Mornings\, Friday’s Led class and all afternoon sessions 300 €/week \nWeekend April 18-19 with 1 Primary series Led Class and 1 Guided morning class & afternoon sessions 140€ \nSingle classes (Mysore or Led)\, possible if there will be space in the shala 35 € \nSingle classes (Afternoon Techniques)\, possible if there will be space in the shala 50€ \nSingle class (Lectures)\, possible if there will be space in the shala 25€ \nSingle class (Pranayama or Meditation)\, possible if there will be space in the shala 20€ \nWorkshop opening and closing on Tuesday and Sunday Free of change \nCancellation policy: \nIn case of cancellation the payment is not refundable after April 1st 2025. Before April 1st 2025\, a full refund (minus 20€ for management costs) is given. Please email your bank account number for the refund if needed. \nShala / Workshop discounts* \nLocal Students with a 10 x practice card to Yoga Roots ODX – 50% from the original workshop price \nLocal Odeceixe Portuguese citizens – 40% \nPortuguese citizens – 30% \nDisabled Practitioners – 30% \nBIPOC\, Caste-oppressed Practitioners – 15% \nLGBTQIA2S+ – 15% \nSingle parents – 15% \nPortuguese Residents – 15% \nStudents (15 – 30)\, Parents on leave (up to 18 months) & Retired (65+) – 15% \nFor the students with a low income we are offering a Volunteer exchange option (below).  \n*When registering\, please send us proof of your discount (ie. student or disability card). Otherwise\, we use the honor system and invite you to be transparent with us regarding your reason for a discounted tier. \nVoluntary help at the fruit tree garden\, herbal garden or park. Voluntary workshop exchange option for 2-3 students per workshop. Please ask more if you are interested. \nWhy discounts? \nWe believe the practice of yoga can heal the world\, both on and off the mat. We have witnessed the wisdom contained within the tradition of yoga for both individual self- transformation and collective\, societal progress. In this spirit\, we recognize our aspiration for our yoga spaces to feel welcoming and warm for anyone who wishes to take practice. We continually contemplate how we can make our yoga spaces safer\, welcome and more accessible to all\, regardless of race\, gender\, ethnicity\, caste\, sexual identity\, class\, age\, nationality\, immigrant status\, disability etc. \nOne way we aspire to live by our yogic ideals is around economic accessibility. Yoga should not be a luxury only for those who can afford it. Yoga must be made accessible\, both economically and culturally\, for those who most need it. Based on our individual social locations and whether these identities are proximal to\, or distant from\, power and privilege\, we recognise that institutionalized oppression\, visible and invisible\, recognizable or hidden\, affects how some people are seen\, heard and valued in society. How some are afforded rest and ease and others are not. \nHow some can breath with peace. \nAnd how\, for others\, their breath gets stolen from them\, both literally and figuratively. \nWe wish to balance the scales. \nStarting with our circle of influence in our yoga space. \nIf you identify as more than one on the list above\, please choose the tier that is most essential for you to tend to. We recognize that some of you may embody multiple\, intersecting identities of marginalization\, and would be eligible for multiple discounts. We also acknowledge that there are several more intersections not mentioned that require care and equity. While we aim to extend as much community care out\, we must also protect our energy output and ensure our livelihood and needs as a family are also honored. \nFor those who embody social locations close(r) to societal privilege and power\, this is an invitation to be in active solidarity with others who move through society differently than you. We are sensitive to the fact that life is hard for us all. Being human is hard. However\, there are many experiences that are facilitated for one based on any number of factors\, and having privilege often means that we don’t need to notice the ways structures are set up in our favor. We invite you to pay the full price with a generous spirit. Equity\, meaning everyone getting what they need\, for those who have enjoyed privilege might sometimes feel like oppression. \nIn this moment\, breathe\, slow down and tend to yourself with care and honest accountability. \nFannie Lou Hamer is known to have said\, “Nobody’s free until everybody’s free.” We are all needed to get where we need to be\, as an inter-species. Let’s start embodying this interdependence and interconnection with one another. \nSide by side. \nBoth on and off the yoga mat. \nMay all beings get what they need to be well\, cared for and tended to. \nMay our actions bring us one step closer to making it so. \nPayment Options: \n1. Bank transfer (most recommended) \nAccount details: \nTo: \nYoga Roots Odeceixe\, LDA \nBank: Credito Agricola \nNIB: 0045 7021 40370695571 12 \nIBAN: PT50 0045 7021 4037 0695 5711 2 \nBIC/SWIFT: CCCMPTPL \nMessage: \nOdeceixe April 15-19 2025\, Your Name and what you are paying..Full program/Only Mornings/Weekend etc. \n2.  Cash payment to Petri or Wambui before the first Yoga class \n3. Low cost international transfer \nhttps://wise.com \nLow fees transfers about 3€ each transfer (please add that to the final amount) \nSome students has been using this transfer and the commission is much lower than in PayPa or Bank transfer from outside the Europe..especially if you are paying from the US or Asia. \nMessage: \nOdeceixe April 15-19 2025\, Your Name and what you are paying (ie Full program/Only Mornings/Weekend etc). \nAll questions and information: email yogarootsodeceixe@gmail.com \nLooking forward to spend a beautiful time in  Portugal \nWith love from Yoga Roots Odeceixe\, your pink healing nest in the seaside village of Odeceixe \n  \nYoga Roots Odeceixe\, LDA \nRua da Estrada Nacional\, n°1\,  \nOdeceixe\, 8670-320\, Portugal   \n Tax code (NIF) 517368803 (Portugal)
URL:https://petriraisanen.com/event/yoga-roots-odeceixe-portugal-april-15-19-2025-dharma-for-the-heart-cultivating-qualities-of-the-heart-through-mindfulness-and-meditation/
CATEGORIES:Workshops
ATTACH;FMTTYPE=image/jpeg:https://petriraisanen.com/wp-content/uploads/2025/01/IMG_6144-scaled.jpg
END:VEVENT
END:VCALENDAR