BEGIN:VCALENDAR
VERSION:2.0
PRODID:-//Petri Räisänen - ECPv6.15.11//NONSGML v1.0//EN
CALSCALE:GREGORIAN
METHOD:PUBLISH
X-ORIGINAL-URL:https://petriraisanen.com
X-WR-CALDESC:Events for Petri Räisänen
REFRESH-INTERVAL;VALUE=DURATION:PT1H
X-Robots-Tag:noindex
X-PUBLISHED-TTL:PT1H
BEGIN:VTIMEZONE
TZID:UTC
BEGIN:STANDARD
TZOFFSETFROM:+0000
TZOFFSETTO:+0000
TZNAME:UTC
DTSTART:20200101T000000
END:STANDARD
END:VTIMEZONE
BEGIN:VEVENT
DTSTART;VALUE=DATE:20211217
DTEND;VALUE=DATE:20211220
DTSTAMP:20260421T013328
CREATED:20211014T133215Z
LAST-MODIFIED:20211214T093314Z
UID:11560-1639699200-1639958399@petriraisanen.com
SUMMARY:Astanga Yoga Helsinki\, Finland December 17-19\, 2021
DESCRIPTION:Were are happy to announce the “Pikkujoulu-Christmas party” Helsinki workshop in December 17-19\, 2021 at Astanga Yoga Helsinki shala. This is a collaboration with Juha and Petri as they’ve been doing since 1991 when they stared to teach together. \nWe are continuing on the similar field (Is Ashtanga a religious practice?) which we stared in our workshop in October 8-10 2021..now with Karma and reincarnation and Ashtanga asana adjustments. \nWelcome to practice the yoga tradition with Juha and Petri! \n  \nMore info at https://astangajooga.fi/ajankohtaista/special-workshop-petri-juha-dec-21/
URL:https://petriraisanen.com/event/astanga-yoga-helsinki-finland-december-17-19-2021/
CATEGORIES:Workshops
ATTACH;FMTTYPE=image/jpeg:https://petriraisanen.com/wp-content/uploads/2021/10/Petri-Juha-01-800.jpg
END:VEVENT
END:VCALENDAR