BEGIN:VCALENDAR
VERSION:2.0
PRODID:-//Petri Räisänen - ECPv6.15.11//NONSGML v1.0//EN
CALSCALE:GREGORIAN
METHOD:PUBLISH
X-ORIGINAL-URL:https://petriraisanen.com
X-WR-CALDESC:Events for Petri Räisänen
REFRESH-INTERVAL;VALUE=DURATION:PT1H
X-Robots-Tag:noindex
X-PUBLISHED-TTL:PT1H
BEGIN:VTIMEZONE
TZID:UTC
BEGIN:STANDARD
TZOFFSETFROM:+0000
TZOFFSETTO:+0000
TZNAME:UTC
DTSTART:20210101T000000
END:STANDARD
END:VTIMEZONE
BEGIN:VEVENT
DTSTART;VALUE=DATE:20220402
DTEND;VALUE=DATE:20220404
DTSTAMP:20260420T163047
CREATED:20220324T145118Z
LAST-MODIFIED:20220324T145118Z
UID:11721-1648857600-1649030399@petriraisanen.com
SUMMARY:Wasa Yoga Center\, Vaasa\, Finland April 2-3 2022
DESCRIPTION:Welcome to our two day workshop in the in the beautiful costal town in the west coast of Finland. Vaasa has a long history of Ashtanga Yoga\, being one of the first Ashtanga shalas in Finland. \nMore info from \nwww.wasayogacenter.fi \nWarmly\, \nPetri & Wasas Yoga Center teachers
URL:https://petriraisanen.com/event/wasa-yoga-center-vaasa-finland-april-2-3-2022/
CATEGORIES:Workshops
ATTACH;FMTTYPE=image/jpeg:https://petriraisanen.com/wp-content/uploads/2018/01/DSC_4488-kopio.jpg
END:VEVENT
END:VCALENDAR