BEGIN:VCALENDAR
VERSION:2.0
PRODID:-//Petri Räisänen - ECPv6.15.11//NONSGML v1.0//EN
CALSCALE:GREGORIAN
METHOD:PUBLISH
X-ORIGINAL-URL:https://petriraisanen.com
X-WR-CALDESC:Events for Petri Räisänen
REFRESH-INTERVAL;VALUE=DURATION:PT1H
X-Robots-Tag:noindex
X-PUBLISHED-TTL:PT1H
BEGIN:VTIMEZONE
TZID:UTC
BEGIN:STANDARD
TZOFFSETFROM:+0000
TZOFFSETTO:+0000
TZNAME:UTC
DTSTART:20210101T000000
END:STANDARD
END:VTIMEZONE
BEGIN:VEVENT
DTSTART;VALUE=DATE:20220421
DTEND;VALUE=DATE:20220425
DTSTAMP:20260420T163104
CREATED:20200916T134952Z
LAST-MODIFIED:20210818T054519Z
UID:11124-1650499200-1650844799@petriraisanen.com
SUMMARY:Ashtanga Yoga Shala\, Malmö\, Sweden\, April 21 - 24 2022
DESCRIPTION:We did our first workshop in Malmö with Åsa at her Ashtanga Yoga Shala right when the borders opened in April 2021. We had a great time and the students and teachers were happy to have a live teaching experience after all those online classes. \nNow we will be back in the shala and on the yoga mat. \nWelcome to Malmö to enjoy the healing energy! \nWarmly\, \nPetri and Åsa \nhttp://ashtangashala.se
URL:https://petriraisanen.com/event/ashtanga-yoga-shala-malmo-sweden-april-21-24-2022/
CATEGORIES:Workshops
ATTACH;FMTTYPE=image/jpeg:https://petriraisanen.com/wp-content/uploads/2018/05/Petri-in-Mysore-2010-.jpg
END:VEVENT
END:VCALENDAR