BEGIN:VCALENDAR
VERSION:2.0
PRODID:-//Petri Räisänen - ECPv6.15.11//NONSGML v1.0//EN
CALSCALE:GREGORIAN
METHOD:PUBLISH
X-WR-CALNAME:Petri Räisänen
X-ORIGINAL-URL:https://petriraisanen.com
X-WR-CALDESC:Events for Petri Räisänen
REFRESH-INTERVAL;VALUE=DURATION:PT1H
X-Robots-Tag:noindex
X-PUBLISHED-TTL:PT1H
BEGIN:VTIMEZONE
TZID:UTC
BEGIN:STANDARD
TZOFFSETFROM:+0000
TZOFFSETTO:+0000
TZNAME:UTC
DTSTART:20230101T000000
END:STANDARD
END:VTIMEZONE
BEGIN:VEVENT
DTSTART;VALUE=DATE:20241129
DTEND;VALUE=DATE:20241203
DTSTAMP:20260420T111957
CREATED:20240506T201306Z
LAST-MODIFIED:20240508T103544Z
UID:13595-1732838400-1733183999@petriraisanen.com
SUMMARY:Yoga Circle Amsterdam\, Netherlands\, November 29 - December 2\, 2024 The Healing Space Workshop
DESCRIPTION:Yoga Circle Amsterdam came as a blessing for the Amsterdam Ashtangis in the Autumn of 2023. After Delight Yoga closed the doors\, there was only few smaller shalas in Amsterdam. I was happy to be one of the first teachers to teach at the new shala..or actually it is still the same De Clercqstraat 66-68 shala as before but with a new local Ashtangis running for it..Claudia\, Lidewij and co. \nI’m happy to be back at Yoga Circle Amsterdam in November 29 – December 2\, 2024 from Friday morning till Monday morning. The theme is The Healing Space. We will have a morning Mysore classes and afternoon classes with a healing titles. Healing through asana and hands on adjustments\, pranayama\, energy healing and mind work. \nWelcome to one of the most interesting and diverse cities in Europe and Ashtanga communities. \nPetri\, Claudia and Lidewij
URL:https://petriraisanen.com/event/yoga-circle-amsterdam-netherlands-november-29-december-2-2024/
CATEGORIES:Workshops
ATTACH;FMTTYPE=image/jpeg:https://petriraisanen.com/wp-content/uploads/2024/05/IMG_5797.jpg
END:VEVENT
END:VCALENDAR