BEGIN:VCALENDAR
VERSION:2.0
PRODID:-//Petri Räisänen - ECPv6.15.11//NONSGML v1.0//EN
CALSCALE:GREGORIAN
METHOD:PUBLISH
X-WR-CALNAME:Petri Räisänen
X-ORIGINAL-URL:https://petriraisanen.com
X-WR-CALDESC:Events for Petri Räisänen
REFRESH-INTERVAL;VALUE=DURATION:PT1H
X-Robots-Tag:noindex
X-PUBLISHED-TTL:PT1H
BEGIN:VTIMEZONE
TZID:UTC
BEGIN:STANDARD
TZOFFSETFROM:+0000
TZOFFSETTO:+0000
TZNAME:UTC
DTSTART:20230101T000000
END:STANDARD
END:VTIMEZONE
BEGIN:VEVENT
DTSTART;VALUE=DATE:20241205
DTEND;VALUE=DATE:20241210
DTSTAMP:20260420T111052
CREATED:20240508T110131Z
LAST-MODIFIED:20240508T111216Z
UID:13604-1733356800-1733788799@petriraisanen.com
SUMMARY:Petri and Nina Tomas Collaboration workshop in Brussels\, Belgium\, December 5-9\, 2024
DESCRIPTION:Petri and Nina Tomas Collaboration workshop in Brussels\, Belgium\, December 5-9\, 2024 \nWe had an amazing workshop with Nina in last December in Brussels. I love to see the Ashtanga community together\, all happy to practice and explore our own beings safely and patiently. In next December 5-9\, we will have a new warm shala and plenty of space to practice comfortably and passionately. \nNina is taking care for the registrations and practical tips. The workshop will be just two weeks before the Christmas and Brussels is well known from its Christmas markets and events..well and Belgium frites and chocolate..now also Ashtanga Yoga : ) \n \nThe Grand Place Christmas lights (photo by Petri) \n  \nWelcome to the workshop and experience the Brussels Ashtanga community! \nBig hugs\, \nPetri and Nina \n  \n 
URL:https://petriraisanen.com/event/petri-and-nina-tomas-collaboration-workshop-in-brussels-belgium-december-5-9-2024/
LOCATION:Brussels\, Emergences\, rue des Cultivateurs 54\,\, Brussels\, 1040\, Belgium
CATEGORIES:Workshops
ATTACH;FMTTYPE=image/jpeg:https://petriraisanen.com/wp-content/uploads/2024/05/IMG_5114.jpg
END:VEVENT
END:VCALENDAR