BEGIN:VCALENDAR
VERSION:2.0
PRODID:-//Petri Räisänen - ECPv6.15.11//NONSGML v1.0//EN
CALSCALE:GREGORIAN
METHOD:PUBLISH
X-WR-CALNAME:Petri Räisänen
X-ORIGINAL-URL:https://petriraisanen.com
X-WR-CALDESC:Events for Petri Räisänen
REFRESH-INTERVAL;VALUE=DURATION:PT1H
X-Robots-Tag:noindex
X-PUBLISHED-TTL:PT1H
BEGIN:VTIMEZONE
TZID:UTC
BEGIN:STANDARD
TZOFFSETFROM:+0000
TZOFFSETTO:+0000
TZNAME:UTC
DTSTART:20230101T000000
END:STANDARD
END:VTIMEZONE
BEGIN:VEVENT
DTSTART;VALUE=DATE:20241226
DTEND;VALUE=DATE:20241231
DTSTAMP:20260420T112029
CREATED:20241015T174135Z
LAST-MODIFIED:20241015T180239Z
UID:13874-1735171200-1735603199@petriraisanen.com
SUMMARY:Astanga Yoga Helsinki Winter Workshop\, Finland\, December 26-30\, 2024
DESCRIPTION:This is our (Petri and Juha) traditional Helsinki winter workshop. Starting on the December 26th with “tofu pork digesting yoga” Mysore class..and then continuing with the workshop schedule on the December 27-30\, 2024. \nBesides the Ashtanga Yoga schedule we will have an Ateneum museum visit on Saturday 28th and Sauna gathering on Sunday 29th. All welcome. The times and Sauna place and registrations will be discussed on the first day of the workshop. Recommendations to Löyly (Helsinki center area) or Kuusijärvi smoke saunas (need a car drive 30 min). Extra schedule will be paid separately. \nWelcome to this Winter Special workshop to the Santa Claus land! \nWarmest\, \nPetri and Juha \n  \nChristmas card by Heikki Laaksonen
URL:https://petriraisanen.com/event/astanga-yoga-helsinki-winter-workshop-finland-december-26-30-2024/
LOCATION:Astanga Yoga Helsinki\, Annankatu 29 B\, Helsinki\, 00830\, Finland
CATEGORIES:Workshops
ATTACH;FMTTYPE=image/jpeg:https://petriraisanen.com/wp-content/uploads/2024/10/IMG_2980-scaled.jpeg
END:VEVENT
END:VCALENDAR