BEGIN:VCALENDAR
VERSION:2.0
PRODID:-//Petri Räisänen - ECPv6.15.11//NONSGML v1.0//EN
CALSCALE:GREGORIAN
METHOD:PUBLISH
X-WR-CALNAME:Petri Räisänen
X-ORIGINAL-URL:https://petriraisanen.com
X-WR-CALDESC:Events for Petri Räisänen
REFRESH-INTERVAL;VALUE=DURATION:PT1H
X-Robots-Tag:noindex
X-PUBLISHED-TTL:PT1H
BEGIN:VTIMEZONE
TZID:UTC
BEGIN:STANDARD
TZOFFSETFROM:+0000
TZOFFSETTO:+0000
TZNAME:UTC
DTSTART:20240101T000000
END:STANDARD
END:VTIMEZONE
BEGIN:VEVENT
DTSTART;VALUE=DATE:20250206
DTEND;VALUE=DATE:20250211
DTSTAMP:20260419T170858
CREATED:20241126T131344Z
LAST-MODIFIED:20241126T132050Z
UID:13918-1738800000-1739231999@petriraisanen.com
SUMMARY:Ashtanga Yoga Luxembourg\, February 6-10\, 2025
DESCRIPTION:It will be my second time at the Ashtanga Yoga Luxembourg. I love the beautiful old city with markets and walkable distances. The winter season looks amazing in Luxembourg. Cosy and warm even if the outdoor temperatures are below zero. Welcome to practice Ashtanga and hang out with the local community. \nWe will start on Thursday morning and finish on Monday morning. It will be a five days of pleasure. \nI’m looking to seeing you at Ashtanga Yoga Luxembourg. \nBig hugs\, Petri \n  \nMore info https://ashtangayoga.lu/events/petri-raisanen-in-luxembourg-city-february-6-10/
URL:https://petriraisanen.com/event/ashtanga-yoga-luxembourg-february-6-10-2025/
LOCATION:Ashtanga Yoga Luxembourg\, Studio 5\, 5-9 Rue du Nord L-2229\, Luxembourg\, Luxembourg
CATEGORIES:Workshops
ATTACH;FMTTYPE=image/jpeg:https://petriraisanen.com/wp-content/uploads/2019/09/2018-Petri-Berlin-Selina-52-Small.jpeg
END:VEVENT
END:VCALENDAR