BEGIN:VCALENDAR
VERSION:2.0
PRODID:-//Petri Räisänen - ECPv6.15.11//NONSGML v1.0//EN
CALSCALE:GREGORIAN
METHOD:PUBLISH
X-WR-CALNAME:Petri Räisänen
X-ORIGINAL-URL:https://petriraisanen.com
X-WR-CALDESC:Events for Petri Räisänen
REFRESH-INTERVAL;VALUE=DURATION:PT1H
X-Robots-Tag:noindex
X-PUBLISHED-TTL:PT1H
BEGIN:VTIMEZONE
TZID:UTC
BEGIN:STANDARD
TZOFFSETFROM:+0000
TZOFFSETTO:+0000
TZNAME:UTC
DTSTART:20240101T000000
END:STANDARD
END:VTIMEZONE
BEGIN:VEVENT
DTSTART;VALUE=DATE:20250222
DTEND;VALUE=DATE:20250224
DTSTAMP:20260419T195203
CREATED:20231024T123507Z
LAST-MODIFIED:20250218T231815Z
UID:12943-1740182400-1740355199@petriraisanen.com
SUMMARY:YogaVolt\, Fuerteventura\, Canary Islands\, February 18-23\, 2025
DESCRIPTION:Valentina Parmigiani has built a beautiful wooden yoga shala in Lajares\, Fuerteventura. For the last two years the workshop has been amazing with many students and great activities. On the free afternoons we did a volcano walk and had a beautiful beach time. The small village Lajares has few shops and restaurants and the quality is a top level. Especially I loved the Italian bakery and local cafe / ice cram bar (how the Italians know how the food should taste?). In February Fuerteventura is still warm and sunny. The island is just stunning with moon like nature and mystic landscape. \nPlease contact Valentina for more information about the accommodation and place and check the website.. \nI hope to see you in Fuerteventura in February 18-23 2025 in the European summer : ) \nBig hugs\, \nPetri and Valentina
URL:https://petriraisanen.com/event/yogavolt-fuerteventura-canary-islands-february-18-23-2025/
LOCATION:YogaVolt\, Montaña Colorada 3\, Lajares\, Fuerteventura\, Spain
CATEGORIES:Workshops
ATTACH;FMTTYPE=image/jpeg:https://petriraisanen.com/wp-content/uploads/2023/10/Petri-in-Fuerteventura-2024-scaled.jpg
ORGANIZER;CN="YogaVolt":MAILTO:valenparmi@gmail.com
END:VEVENT
END:VCALENDAR