BEGIN:VCALENDAR
VERSION:2.0
PRODID:-//Petri Räisänen - ECPv6.15.11//NONSGML v1.0//EN
CALSCALE:GREGORIAN
METHOD:PUBLISH
X-ORIGINAL-URL:https://petriraisanen.com
X-WR-CALDESC:Events for Petri Räisänen
REFRESH-INTERVAL;VALUE=DURATION:PT1H
X-Robots-Tag:noindex
X-PUBLISHED-TTL:PT1H
BEGIN:VTIMEZONE
TZID:UTC
BEGIN:STANDARD
TZOFFSETFROM:+0000
TZOFFSETTO:+0000
TZNAME:UTC
DTSTART:20240101T000000
END:STANDARD
END:VTIMEZONE
BEGIN:VEVENT
DTSTART;VALUE=DATE:20250515
DTEND;VALUE=DATE:20250519
DTSTAMP:20260420T002022
CREATED:20231119T222332Z
LAST-MODIFIED:20241126T210719Z
UID:13005-1747267200-1747612799@petriraisanen.com
SUMMARY:Yoga Devi\, Stockholm\, Sweden\, May 15-18\, 2025
DESCRIPTION:Stockholm is a beautiful Scandinavian town build on the fourteen islands. Here I started my international teachings in 1994 at Ashtanga Yoga Stockholm\, nowadays called Yoga Devi. Since\, I’ve been teaching in Stockholm more workshop than in any other place in the world and still loving it. Close to the Yoga Devi shala is located my favorite South Indian restaurants in Sweden\, Saravana Bhavan and MahaBelly. Two more reason to come to Stockholm : ) \nWelcome to our four day “Accessible Ashtanga Yoga” workshop at Yoga Devi. I’m looking forward to meet the Sthlm Ashtanga community again and teach with Pernilla and Fia. It has always been a pleasure! \nBig hugs\, \nPetri\, Pernilla and Fia \n \nFia adjusting Paschimatanasana \nPhoto by Petri 2024
URL:https://petriraisanen.com/event/yoga-devi-stockholm-sweden-may-15-18-2024/
CATEGORIES:Workshops
ATTACH;FMTTYPE=image/jpeg:https://petriraisanen.com/wp-content/uploads/2023/11/Stockholm-shala-2022.jpg
END:VEVENT
END:VCALENDAR