BEGIN:VCALENDAR
VERSION:2.0
PRODID:-//Petri Räisänen - ECPv6.15.11//NONSGML v1.0//EN
CALSCALE:GREGORIAN
METHOD:PUBLISH
X-ORIGINAL-URL:https://petriraisanen.com
X-WR-CALDESC:Events for Petri Räisänen
REFRESH-INTERVAL;VALUE=DURATION:PT1H
X-Robots-Tag:noindex
X-PUBLISHED-TTL:PT1H
BEGIN:VTIMEZONE
TZID:Europe/Lisbon
BEGIN:DAYLIGHT
TZOFFSETFROM:+0000
TZOFFSETTO:+0100
TZNAME:WEST
DTSTART:20250330T010000
END:DAYLIGHT
BEGIN:STANDARD
TZOFFSETFROM:+0100
TZOFFSETTO:+0000
TZNAME:WET
DTSTART:20251026T010000
END:STANDARD
BEGIN:DAYLIGHT
TZOFFSETFROM:+0000
TZOFFSETTO:+0100
TZNAME:WEST
DTSTART:20260329T010000
END:DAYLIGHT
BEGIN:STANDARD
TZOFFSETFROM:+0100
TZOFFSETTO:+0000
TZNAME:WET
DTSTART:20261025T010000
END:STANDARD
BEGIN:DAYLIGHT
TZOFFSETFROM:+0000
TZOFFSETTO:+0100
TZNAME:WEST
DTSTART:20270328T010000
END:DAYLIGHT
BEGIN:STANDARD
TZOFFSETFROM:+0100
TZOFFSETTO:+0000
TZNAME:WET
DTSTART:20271031T010000
END:STANDARD
END:VTIMEZONE
BEGIN:VEVENT
DTSTART;VALUE=DATE:20260807
DTEND;VALUE=DATE:20260810
DTSTAMP:20260420T225352
CREATED:20260407T121853Z
LAST-MODIFIED:20260407T121853Z
UID:14897-1786060800-1786319999@petriraisanen.com
SUMMARY:Illuminating Our True Nature\, August 7-9\, 2026 With Michelle Johnson and Wambui Njuguna
DESCRIPTION:Illuminating Our True Nature\nAugust 7-9\, 2026\nWith Michelle Johnson and Wambui Njuguna\n  \nJoin Michelle C. Johnson and Wambui Njuguna for a weekend immersion at Yoga Roots in Odeceixe\, Portugal. \n\nHours of Practice: \nFriday and Saturday \n6:30-8:00 am Self-led Ashtanga Practice (Optional) \nMorning Session 9:00-11:00 am \nBreak 11:00-12:30 pm \nAfternoon session 12:30-2:30 pm \nSunday \nMorning session and Closing 9:00 am-12:00 pm \n\nThe immersion focuses on Michelle’s fifth book\, Illuminating Our True Nature\, which weaves together content\, practices\, and rituals centered on the root causes of our suffering and how we return to our true nature. \nYoga is an ancient practice designed to support us in meeting whatever might arise\, moment to moment. In this weekend immersion\, we will explore how we can engage in spiritual practice to meet the personal and collective suffering we experience. We will explore the five root causes of suffering\, as presented in Patanjali’s Yoga Sutras: \navidya – a lack of clear sight\nasmita – an overidentification with the ego\nraga – an attachment to pleasure\ndvesha – aversion or avoidance\nabhinivesha – a fear of death or letting go \nWe will move through various practices\, including asana\, pranayama\, meditation\, mudra\, and mantra\, to meet ourselves and our suffering and\, ultimately\, to mitigate suffering and create conditions for liberation for ourselves and all beings. \nThroughout this weekend immersion\, we will explore the following themes: \n\n\nThe Root Causes of Suffering-The Kleshas \n\n\nCollective Grief and Healing \n\n\nThe Yoga Sutras \n\n\nHow to Meet the Moment with Our Practice \n\n\nHow to Heal by Engaging Our Spiritual Practice \n\n\nCreating Conditions for Collective Liberation \n\n\nAnd more! \n\n\nCome prepared to learn\, build community\, practice\, connect with your heart\, and work toward a just and liberated world for all! \nMore info: https://www.michellecjohnson.com/shop/p/illuminating-our-true-nature-yoga-roots
URL:https://petriraisanen.com/event/illuminating-our-true-nature-august-7-9-2026-with-michelle-johnson-and-wambui-njuguna/
CATEGORIES:Workshops
ATTACH;FMTTYPE=image/png:https://petriraisanen.com/wp-content/uploads/2026/04/Nayttokuva-2026-04-07-kello-13.15.31.png
END:VEVENT
END:VCALENDAR