BEGIN:VCALENDAR
VERSION:2.0
PRODID:-//Petri Räisänen - ECPv6.15.11//NONSGML v1.0//EN
CALSCALE:GREGORIAN
METHOD:PUBLISH
X-WR-CALNAME:Petri Räisänen
X-ORIGINAL-URL:https://petriraisanen.com
X-WR-CALDESC:Events for Petri Räisänen
REFRESH-INTERVAL;VALUE=DURATION:PT1H
X-Robots-Tag:noindex
X-PUBLISHED-TTL:PT1H
BEGIN:VTIMEZONE
TZID:Europe/Lisbon
BEGIN:DAYLIGHT
TZOFFSETFROM:+0000
TZOFFSETTO:+0100
TZNAME:WEST
DTSTART:20140330T010000
END:DAYLIGHT
BEGIN:STANDARD
TZOFFSETFROM:+0100
TZOFFSETTO:+0000
TZNAME:WET
DTSTART:20141026T010000
END:STANDARD
BEGIN:DAYLIGHT
TZOFFSETFROM:+0000
TZOFFSETTO:+0100
TZNAME:WEST
DTSTART:20150329T010000
END:DAYLIGHT
BEGIN:STANDARD
TZOFFSETFROM:+0100
TZOFFSETTO:+0000
TZNAME:WET
DTSTART:20151025T010000
END:STANDARD
BEGIN:DAYLIGHT
TZOFFSETFROM:+0000
TZOFFSETTO:+0100
TZNAME:WEST
DTSTART:20160327T010000
END:DAYLIGHT
BEGIN:STANDARD
TZOFFSETFROM:+0100
TZOFFSETTO:+0000
TZNAME:WET
DTSTART:20161030T010000
END:STANDARD
END:VTIMEZONE
BEGIN:VEVENT
DTSTART;TZID=Europe/Lisbon:20150805T100000
DTEND;TZID=Europe/Lisbon:20150805T170000
DTSTAMP:20260420T092724
CREATED:20150730T083607Z
LAST-MODIFIED:20150730T083607Z
UID:5137-1438768800-1438794000@petriraisanen.com
SUMMARY:Yogadance 101: A Series of 5 classes
DESCRIPTION:Nulla a velit accumsan\, aliquet urna sit amet\, sodales urna. Donec laoreet orci nec odio lacinia pulvinar. Aliquam molestie elementum magna in placerat. Mauris dignissim id ante eget placerat. Morbi dignissim eleifend faucibus. Suspendisse potenti. Vestibulum sagittis tortor at felis lobortis placerat. Phasellus nibh ante\, pharetra eu ligula non\, cursus varius ligula. Nam at finibus arcu\, eget tempus enim. In porttitor facilisis metus\, egestas posuere lorem varius a. Donec placerat turpis libero\, in cursus sem ullamcorper a. Duis ut lectus vel ante euismod dapibus sed a nisi. Quisque bibendum enim libero. Vestibulum mollis magna eget odio sollicitudin\, non ullamcorper lectus gravida. Ut interdum diam egestas nisl iaculis\, vel dictum leo dictum. Nunc in eros lacus. Duis eget turpis lobortis\, tristique nisl in\, ullamcorper mi. Vestibulum id hendrerit neque. Suspendisse rutrum in eros quis egestas. Mauris mattis augue id magna bibendum ultricies. Duis ac ullamcorper justo. \nDuis eget turpis lobortis\, tristique nisl in\, ullamcorper mi. Vestibulum id hendrerit neque. Suspendisse rutrum in eros quis egestas. Mauris mattis augue id magna bibendum ultricies. Duis ac ullamcorper justo. Pellentesque rutrum lorem quis nulla egestas aliquam. Nulla facilisi. Integer venenatis enim non ligula maximus fringilla.
URL:https://petriraisanen.com/event/yogadance-101-a-series-of-5-classes/
LOCATION:Central Park\, Central Park\, E 84th St\, New York\, United States
ORGANIZER;CN="Theresa Elliott":MAILTO:example@.com
END:VEVENT
END:VCALENDAR