BEGIN:VCALENDAR
VERSION:2.0
PRODID:-//Petri Räisänen - ECPv6.15.11//NONSGML v1.0//EN
CALSCALE:GREGORIAN
METHOD:PUBLISH
X-WR-CALNAME:Petri Räisänen
X-ORIGINAL-URL:https://petriraisanen.com
X-WR-CALDESC:Events for Petri Räisänen
REFRESH-INTERVAL;VALUE=DURATION:PT1H
X-Robots-Tag:noindex
X-PUBLISHED-TTL:PT1H
BEGIN:VTIMEZONE
TZID:UTC
BEGIN:STANDARD
TZOFFSETFROM:+0000
TZOFFSETTO:+0000
TZNAME:UTC
DTSTART:20140101T000000
END:STANDARD
END:VTIMEZONE
BEGIN:VTIMEZONE
TZID:Europe/Lisbon
BEGIN:DAYLIGHT
TZOFFSETFROM:+0000
TZOFFSETTO:+0100
TZNAME:WEST
DTSTART:20140330T010000
END:DAYLIGHT
BEGIN:STANDARD
TZOFFSETFROM:+0100
TZOFFSETTO:+0000
TZNAME:WET
DTSTART:20141026T010000
END:STANDARD
BEGIN:DAYLIGHT
TZOFFSETFROM:+0000
TZOFFSETTO:+0100
TZNAME:WEST
DTSTART:20150329T010000
END:DAYLIGHT
BEGIN:STANDARD
TZOFFSETFROM:+0100
TZOFFSETTO:+0000
TZNAME:WET
DTSTART:20151025T010000
END:STANDARD
BEGIN:DAYLIGHT
TZOFFSETFROM:+0000
TZOFFSETTO:+0100
TZNAME:WEST
DTSTART:20160327T010000
END:DAYLIGHT
BEGIN:STANDARD
TZOFFSETFROM:+0100
TZOFFSETTO:+0000
TZNAME:WET
DTSTART:20161030T010000
END:STANDARD
END:VTIMEZONE
BEGIN:VEVENT
DTSTART;TZID=UTC:20170101T080000
DTEND;TZID=UTC:20170131T170000
DTSTAMP:20260419T232913
CREATED:20160309T161635Z
LAST-MODIFIED:20160320T230605Z
UID:6788-1483257600-1485882000@petriraisanen.com
SUMMARY:koh mak
DESCRIPTION:texti um það
URL:https://petriraisanen.com/event/fundur/
LOCATION:Koh Mak\, Thailand
CATEGORIES:Retreats
END:VEVENT
BEGIN:VEVENT
DTSTART;TZID=UTC:20150830T100000
DTEND;TZID=UTC:20150830T170000
DTSTAMP:20260419T232913
CREATED:20150430T124857Z
LAST-MODIFIED:20150430T124857Z
UID:956-1440928800-1440954000@petriraisanen.com
SUMMARY:Hanuman Yoga Festival
DESCRIPTION:Donec mollis\, metus a varius faucibus\, est magna tempor mauris\, sit amet lobortis nunc sem non lectus. Proin vitae feugiat lorem\, nec lacinia massa. Integer interdum ipsum sed placerat posuere. Etiam dapibus ante in lacus lacinia\, non convallis quam luctus. Vivamus augue nibh\, fermentum quis justo sed\, fermentum maximus magna. Morbi venenatis eros velit\, elementum sodales turpis viverra at. Phasellus finibus mauris a massa malesuada faucibus. Duis euismod vehicula enim eu placerat. Aenean dictum eget lacus in fermentum. Cras ac ipsum imperdiet\, bibendum tortor quis\, mollis risus. Aliquam quis dapibus est. Vestibulum elementum\, ante nec tristique rutrum\, risus augue dapibus sem\, ut bibendum dolor urna sed lacus.
URL:https://petriraisanen.com/event/hanuman-yoga-festival/
LOCATION:Central Park\, Central Park\, E 84th St\, New York\, United States
ATTACH;FMTTYPE=image/jpeg:https://petriraisanen.com/wp-content/uploads/2015/07/01.jpg
ORGANIZER;CN="Jacob Taylor":MAILTO:example@.com
END:VEVENT
BEGIN:VEVENT
DTSTART;TZID=UTC:20150827T080000
DTEND;TZID=UTC:20150827T170000
DTSTAMP:20260419T232913
CREATED:20150730T085251Z
LAST-MODIFIED:20150730T085251Z
UID:5150-1440662400-1440694800@petriraisanen.com
SUMMARY:Menla Mountain Retreat Center: Catskills\, NY
DESCRIPTION:Donec mollis\, metus a varius faucibus\, est magna tempor mauris\, sit amet lobortis nunc sem non lectus. Proin vitae feugiat lorem\, nec lacinia massa. Integer interdum ipsum sed placerat posuere. Etiam dapibus ante in lacus lacinia\, non convallis quam luctus. Vivamus augue nibh\, fermentum quis justo sed\, fermentum maximus magna. Morbi venenatis eros velit\, elementum sodales turpis viverra at. Phasellus finibus mauris a massa malesuada faucibus. Duis euismod vehicula enim eu placerat. Aenean dictum eget lacus in fermentum. Cras ac ipsum imperdiet\, bibendum tortor quis\, mollis risus. Aliquam quis dapibus est. Vestibulum elementum\, ante nec tristique rutrum\, risus augue dapibus sem\, ut bibendum dolor urna sed lacus.
URL:https://petriraisanen.com/event/menla-mountain-retreat-center-catskills-ny/
LOCATION:Unnamed Venue\, Catskills\, NY\, United States
ATTACH;FMTTYPE=image/jpeg:https://petriraisanen.com/wp-content/uploads/2015/07/02.jpg
ORGANIZER;CN="Linda Ford":MAILTO:example@.com
END:VEVENT
BEGIN:VEVENT
DTSTART;TZID=UTC:20150825T100000
DTEND;TZID=UTC:20150825T170000
DTSTAMP:20260419T232913
CREATED:20150430T111753Z
LAST-MODIFIED:20150430T111753Z
UID:850-1440496800-1440522000@petriraisanen.com
SUMMARY:Yoga Journal LIVE! Conference
DESCRIPTION:Donec mollis\, metus a varius faucibus\, est magna tempor mauris\, sit amet lobortis nunc sem non lectus. Proin vitae feugiat lorem\, nec lacinia massa. Integer interdum ipsum sed placerat posuere. Etiam dapibus ante in lacus lacinia\, non convallis quam luctus. Vivamus augue nibh\, fermentum quis justo sed\, fermentum maximus magna. Morbi venenatis eros velit\, elementum sodales turpis viverra at. Phasellus finibus mauris a massa malesuada faucibus. Duis euismod vehicula enim eu placerat. Aenean dictum eget lacus in fermentum. Cras ac ipsum imperdiet\, bibendum tortor quis\, mollis risus. Aliquam quis dapibus est. Vestibulum elementum\, ante nec tristique rutrum\, risus augue dapibus sem\, ut bibendum dolor urna sed lacus.
URL:https://petriraisanen.com/event/yoga-journal-live-conference/
LOCATION:Central Park\, Central Park\, E 84th St\, New York\, United States
ATTACH;FMTTYPE=image/jpeg:https://petriraisanen.com/wp-content/uploads/2015/07/03.jpg
ORGANIZER;CN="Kate Sims":MAILTO:example@.com
END:VEVENT
BEGIN:VEVENT
DTSTART;TZID=UTC:20150819T100000
DTEND;TZID=UTC:20150819T170000
DTSTAMP:20260419T232913
CREATED:20150730T084029Z
LAST-MODIFIED:20150730T084029Z
UID:5140-1439978400-1440003600@petriraisanen.com
SUMMARY:Mexico Yoga & Surf Retreat
DESCRIPTION:Donec mollis\, metus a varius faucibus\, est magna tempor mauris\, sit amet lobortis nunc sem non lectus. Proin vitae feugiat lorem\, nec lacinia massa. Integer interdum ipsum sed placerat posuere. Etiam dapibus ante in lacus lacinia\, non convallis quam luctus. Vivamus augue nibh\, fermentum quis justo sed\, fermentum maximus magna. Morbi venenatis eros velit\, elementum sodales turpis viverra at. Phasellus finibus mauris a massa malesuada faucibus. Duis euismod vehicula enim eu placerat. Aenean dictum eget lacus in fermentum. Cras ac ipsum imperdiet\, bibendum tortor quis\, mollis risus. Aliquam quis dapibus est. Vestibulum elementum\, ante nec tristique rutrum\, risus augue dapibus sem\, ut bibendum dolor urna sed lacus.
URL:https://petriraisanen.com/event/mexico-yoga-surf-retreat/
LOCATION:Capital Hilton\, Mexica\, Mexico
ATTACH;FMTTYPE=image/jpeg:https://petriraisanen.com/wp-content/uploads/2015/07/04.jpg
ORGANIZER;CN="Chelle Swierz & Tina Templeman":MAILTO:example@.com
END:VEVENT
BEGIN:VEVENT
DTSTART;TZID=UTC:20150817T100000
DTEND;TZID=UTC:20150817T170000
DTSTAMP:20260419T232913
CREATED:20150430T105054Z
LAST-MODIFIED:20150430T105054Z
UID:843-1439805600-1439830800@petriraisanen.com
SUMMARY:Summer Solstice in Times Square
DESCRIPTION:Donec mollis\, metus a varius faucibus\, est magna tempor mauris\, sit amet lobortis nunc sem non lectus. Proin vitae feugiat lorem\, nec lacinia massa. Integer interdum ipsum sed placerat posuere. Etiam dapibus ante in lacus lacinia\, non convallis quam luctus. Vivamus augue nibh\, fermentum quis justo sed\, fermentum maximus magna. Morbi venenatis eros velit\, elementum sodales turpis viverra at. Phasellus finibus mauris a massa malesuada faucibus. Duis euismod vehicula enim eu placerat. Aenean dictum eget lacus in fermentum. Cras ac ipsum imperdiet\, bibendum tortor quis\, mollis risus. Aliquam quis dapibus est. Vestibulum elementum\, ante nec tristique rutrum\, risus augue dapibus sem\, ut bibendum dolor urna sed lacus.
URL:https://petriraisanen.com/event/summer-solstice-in-times-square-new-york-ny/
LOCATION:Central Park\, Central Park\, E 84th St\, New York\, United States
ATTACH;FMTTYPE=image/jpeg:https://petriraisanen.com/wp-content/uploads/2015/07/05.jpg
ORGANIZER;CN="Linda Ford":MAILTO:example@.com
END:VEVENT
BEGIN:VEVENT
DTSTART;TZID=UTC:20150815T100000
DTEND;TZID=UTC:20150815T170000
DTSTAMP:20260419T232913
CREATED:20150505T055230Z
LAST-MODIFIED:20150505T055230Z
UID:1354-1439632800-1439658000@petriraisanen.com
SUMMARY:Wanderlust Yoga Festival in New York
DESCRIPTION:Donec mollis\, metus a varius faucibus\, est magna tempor mauris\, sit amet lobortis nunc sem non lectus. Proin vitae feugiat lorem\, nec lacinia massa. Integer interdum ipsum sed placerat posuere. Etiam dapibus ante in lacus lacinia\, non convallis quam luctus. Vivamus augue nibh\, fermentum quis justo sed\, fermentum maximus magna. Morbi venenatis eros velit\, elementum sodales turpis viverra at. Phasellus finibus mauris a massa malesuada faucibus. Duis euismod vehicula enim eu placerat. Aenean dictum eget lacus in fermentum. Cras ac ipsum imperdiet\, bibendum tortor quis\, mollis risus. Aliquam quis dapibus est. Vestibulum elementum\, ante nec tristique rutrum\, risus augue dapibus sem\, ut bibendum dolor urna sed lacus.
URL:https://petriraisanen.com/event/wanderlust-yoga-festival/
LOCATION:Central Park\, Central Park\, E 84th St\, New York\, United States
ATTACH;FMTTYPE=image/jpeg:https://petriraisanen.com/wp-content/uploads/2015/07/06.jpg
ORGANIZER;CN="Kate Sims":MAILTO:example@.com
END:VEVENT
BEGIN:VEVENT
DTSTART;TZID=UTC:20150807T080000
DTEND;TZID=UTC:20150807T160000
DTSTAMP:20260419T232913
CREATED:20150730T084758Z
LAST-MODIFIED:20150730T084758Z
UID:5145-1438934400-1438963200@petriraisanen.com
SUMMARY:Yoga Retreat at the Terme Manzi Hotel
DESCRIPTION:Donec mollis\, metus a varius faucibus\, est magna tempor mauris\, sit amet lobortis nunc sem non lectus. Proin vitae feugiat lorem\, nec lacinia massa. Integer interdum ipsum sed placerat posuere. Etiam dapibus ante in lacus lacinia\, non convallis quam luctus. Vivamus augue nibh\, fermentum quis justo sed\, fermentum maximus magna. Morbi venenatis eros velit\, elementum sodales turpis viverra at. Phasellus finibus mauris a massa malesuada faucibus. Duis euismod vehicula enim eu placerat. Aenean dictum eget lacus in fermentum. Cras ac ipsum imperdiet\, bibendum tortor quis\, mollis risus. Aliquam quis dapibus est. Vestibulum elementum\, ante nec tristique rutrum\, risus augue dapibus sem\, ut bibendum dolor urna sed lacus.
URL:https://petriraisanen.com/event/yoga-retreat-at-the-terme-manzi-hotel/
LOCATION:Island of Ischia\, Italy
ATTACH;FMTTYPE=image/jpeg:https://petriraisanen.com/wp-content/uploads/2015/07/01.jpg
ORGANIZER;CN="Kate Sims":MAILTO:example@.com
END:VEVENT
BEGIN:VEVENT
DTSTART;TZID=Europe/Lisbon:20150805T100000
DTEND;TZID=Europe/Lisbon:20150805T170000
DTSTAMP:20260419T232913
CREATED:20150730T083607Z
LAST-MODIFIED:20150730T083607Z
UID:5137-1438768800-1438794000@petriraisanen.com
SUMMARY:Yogadance 101: A Series of 5 classes
DESCRIPTION:Nulla a velit accumsan\, aliquet urna sit amet\, sodales urna. Donec laoreet orci nec odio lacinia pulvinar. Aliquam molestie elementum magna in placerat. Mauris dignissim id ante eget placerat. Morbi dignissim eleifend faucibus. Suspendisse potenti. Vestibulum sagittis tortor at felis lobortis placerat. Phasellus nibh ante\, pharetra eu ligula non\, cursus varius ligula. Nam at finibus arcu\, eget tempus enim. In porttitor facilisis metus\, egestas posuere lorem varius a. Donec placerat turpis libero\, in cursus sem ullamcorper a. Duis ut lectus vel ante euismod dapibus sed a nisi. Quisque bibendum enim libero. Vestibulum mollis magna eget odio sollicitudin\, non ullamcorper lectus gravida. Ut interdum diam egestas nisl iaculis\, vel dictum leo dictum. Nunc in eros lacus. Duis eget turpis lobortis\, tristique nisl in\, ullamcorper mi. Vestibulum id hendrerit neque. Suspendisse rutrum in eros quis egestas. Mauris mattis augue id magna bibendum ultricies. Duis ac ullamcorper justo. \nDuis eget turpis lobortis\, tristique nisl in\, ullamcorper mi. Vestibulum id hendrerit neque. Suspendisse rutrum in eros quis egestas. Mauris mattis augue id magna bibendum ultricies. Duis ac ullamcorper justo. Pellentesque rutrum lorem quis nulla egestas aliquam. Nulla facilisi. Integer venenatis enim non ligula maximus fringilla.
URL:https://petriraisanen.com/event/yogadance-101-a-series-of-5-classes/
LOCATION:Central Park\, Central Park\, E 84th St\, New York\, United States
ORGANIZER;CN="Theresa Elliott":MAILTO:example@.com
END:VEVENT
END:VCALENDAR