BEGIN:VCALENDAR
VERSION:2.0
PRODID:-//Petri Räisänen - ECPv6.15.11//NONSGML v1.0//EN
CALSCALE:GREGORIAN
METHOD:PUBLISH
X-WR-CALNAME:Petri Räisänen
X-ORIGINAL-URL:https://petriraisanen.com
X-WR-CALDESC:Events for Petri Räisänen
REFRESH-INTERVAL;VALUE=DURATION:PT1H
X-Robots-Tag:noindex
X-PUBLISHED-TTL:PT1H
BEGIN:VTIMEZONE
TZID:UTC
BEGIN:STANDARD
TZOFFSETFROM:+0000
TZOFFSETTO:+0000
TZNAME:UTC
DTSTART:20190101T000000
END:STANDARD
END:VTIMEZONE
BEGIN:VEVENT
DTSTART;VALUE=DATE:20200627
DTEND;VALUE=DATE:20200718
DTSTAMP:20260420T060028
CREATED:20200318T120558Z
LAST-MODIFIED:20200616T092921Z
UID:10480-1593216000-1595030399@petriraisanen.com
SUMMARY:Summer Retreat in Kustavi Archipelago\, Finland June 27 - July 17 2020 POSTPONED TILL 2021
DESCRIPTION:The Retreat has been postponed till June-July 2021 due the Corona-19 pandemia. Stay healthy and safe and..Welcome back in 2021!\nWe will be back in Kustavi (archipelago) Lomavalkama Resort in the West-Coast of Finland. Enjoy the yoga\, philosophy\, sauna\, sea\, yummy vegetarian meals\, friends and the sunny nights of the Finnish summer. This is a great retreat with lots of interesting program and teachers. \nAdults and Children (families) welcome! \nThe registration and schedule will be up at the www.astangajooga.fi in Finnish and English as soon as we will be sure that we will be able to make it. \nBig hugs\, \nPetri\, Wambui\, Juha & Astanga Yoga Helsinki
URL:https://petriraisanen.com/event/summer-retreat-in-kustavi-archipelago-finland-june-27-july-17-2020/
CATEGORIES:Retreats
ATTACH;FMTTYPE=image/jpeg:https://petriraisanen.com/wp-content/uploads/2020/03/Kids-Kustavi-1.jpg
END:VEVENT
BEGIN:VEVENT
DTSTART;TZID=UTC:20200711T160000
DTEND;TZID=UTC:20200712T190000
DTSTAMP:20260420T060028
CREATED:20200521T182039Z
LAST-MODIFIED:20200604T081708Z
UID:10722-1594483200-1594580400@petriraisanen.com
SUMMARY:Finnish Folk Energy Healing On-line Course 2 in July 11-12 2020
DESCRIPTION:Photo: Petri at the health exhibition in 1994\nOne option for Course 2: July 11+12\n(Saturday 16pm-19pm & Sunday 16pm-19pm Finnish time EEST)\nIn this workshop\, you will learn and practice several energy-healing techniques from the Finnish tradition which Petri learned from Finnish master healers Pentti Penttilä\, Pentti Mäkelä and Raimo Holtti. The techniques come from the ancient Finnish healing tradition called Jäsenkorjaus (bone or limb setting) and is\, in many parts\, similar to osteopathy. Some of the techniques used in this tradition involve giving physical adjustments\, energy healing\, herbal healing\, wet and dry cupping and healing with power words (similar with mantras). The workshop will cover mainly the energy healing part with few gentle physical adjustments on the different parts of the body. \nThese energy-healing techniques are based on sensing and locating the blocks in the flow of energy throughout the body. A perfect supplementation to yoga teachers and body workers who wish to increase their sensitivity when working with yoga students and/or clients. \nThe Energy healing Workshop 1 is necessary before doing the workshop 2 if you haven’t done before the workshop with Petri. All the energy work will be done for the partner so attending for the workshop would need two people in the same space and it is better if the both people will attend for the workshop for to give and receive the treatment. \nPetri began his Energy healing studies in Kaustinen\, Finland in 1986. In addition to teaching yoga\, Petri worked as a folk healer and naturopath and ran a natural treatment business in Helsinki\, Finland from 1991-1998. He has been teaching an energy healing workshops since 2005 and spreading the Finnish traditional healing knowledge worldwide. \nEnergy Healing workshop 1 is necessary before doing the second workshop\, if you haven’t done the workshop with Petri prior. All the energy work will be done on a partner so  two people in the same space will be required. We recommend that both people attend the workshop\, to give and receive the treatment. \nThe workshop will be held through Zoom and we will send you the meeting links before the workshops starts. \nIf it’s not possible to find a partner\, let us know and we can work something out. \nWhat you’ll be learning: \nEnergy Healing Workshop 2: \n\nHow to give long and short-distance energy healing\nHow to adjust and move the pain sensation\nHow to do energy acupuncture\nHow to heal stomach and head ache\nHow to move the body without physical touch (mental hypnosis)\nBalancing your own energy after the healing work\n\nThe price for one workshop is 70€ and 120€ for two people. Please register through sending the email to Petri at praisanen@yahoo.com. The workshop will be paid by bank transfer to Maailmanparantaja Oy before the workshop starts. \nIn case of cancellation the payment is not refundable after June 26th 2020. Before June 26th\, a full refund (minus 20€ for management costs) is given. Please email your bank account number for the refund if needed. \nPayment Options x 3\nBank transfer\nAccount details: \nTo: Maailmanparantaja Oy \nBank: \nNordea Bank Finland \nAccount IBAN: FI56 1237 3000 1390 78 \nSwift code: NDEAFIHH \nMessage: \nEnergy Healing\, your name and date. \nPayPal to\npaypal.me/raisanen\nIn PayPal payments there is a commission about 4€ from 70€..so could you please add 4 € to your amount or make sure that you are paying the right amount. \nLow cost international transfer\nhttp://transferwise.com/\nSome students ts has been using this transfer and the commission is lower than in PayPal or normal bank transfer..especially if you are paying from the US or Asia.
URL:https://petriraisanen.com/event/july-11-12-2020/
CATEGORIES:On-line courses,Workshops
ATTACH;FMTTYPE=image/jpeg:https://petriraisanen.com/wp-content/uploads/2020/05/Petri-at-the-health-exhibition-in-1994.jpg
ORGANIZER;CN="Petri and Wambui":MAILTO:praisanen@yahoo.com
END:VEVENT
BEGIN:VEVENT
DTSTART;TZID=UTC:20200712T080000
DTEND;TZID=UTC:20200712T170000
DTSTAMP:20260420T060028
CREATED:20200620T141450Z
LAST-MODIFIED:20200620T141827Z
UID:10884-1594540800-1594573200@petriraisanen.com
SUMMARY:Yoga in Salento YIS Support On-line Led class in July 12 2020
DESCRIPTION:AYS Salento supposed to start the retreat season in April 2020\, but now all the spring and summer (also mine retreat in June) has been cancelled and the resort is suffering a big financial loss. This Primary series + The beginning of the Intermediate series Led class\, discussion\, sharing and Q/A will be held on Sunday morning between 8am-11am (Italian time UTC +2). \nPlease contact YIS at info@yogainsalento.com and see more info at https://yogainsalento.com/online-classes/ \nWelcome to practice on-line. Looking forward to see you : ) \nWarmly\, \nPetri \nP.S. The retreat from the June 13-26 2020 (so far) has been moved to June 12 – 26 2021.
URL:https://petriraisanen.com/event/yoga-in-salento-yis/
CATEGORIES:On-line courses,Workshops
ATTACH;FMTTYPE=image/jpeg:https://petriraisanen.com/wp-content/uploads/2019/09/IMG_2701.jpeg
END:VEVENT
BEGIN:VEVENT
DTSTART;VALUE=DATE:20200729
DTEND;VALUE=DATE:20200803
DTSTAMP:20260420T060028
CREATED:20180227T123234Z
LAST-MODIFIED:20200128T041712Z
UID:8492-1595980800-1596412799@petriraisanen.com
SUMMARY:Frantsila Organic Herb Farm\, Finland July 29 - August 2 2020
DESCRIPTION:July 29 – August 2\, 2020\n\n\nAshtanga Yoga Retreat\nFrantsila Organic Herb Farm \n\nHameenkyro\, Finland\n\nwww.astangashala.fi\n\n 
URL:https://petriraisanen.com/event/ashtanga-yoga-retreat-hameenkyro-finland/
CATEGORIES:Retreats
ATTACH;FMTTYPE=image/jpeg:https://petriraisanen.com/wp-content/uploads/2018/02/Frantsila-ryhmäkuva-2018.jpg
END:VEVENT
END:VCALENDAR