BEGIN:VCALENDAR
VERSION:2.0
PRODID:-//Petri Räisänen - ECPv6.15.11//NONSGML v1.0//EN
CALSCALE:GREGORIAN
METHOD:PUBLISH
X-ORIGINAL-URL:https://petriraisanen.com
X-WR-CALDESC:Events for Petri Räisänen
REFRESH-INTERVAL;VALUE=DURATION:PT1H
X-Robots-Tag:noindex
X-PUBLISHED-TTL:PT1H
BEGIN:VTIMEZONE
TZID:UTC
BEGIN:STANDARD
TZOFFSETFROM:+0000
TZOFFSETTO:+0000
TZNAME:UTC
DTSTART:20210101T000000
END:STANDARD
END:VTIMEZONE
BEGIN:VEVENT
DTSTART;VALUE=DATE:20220629
DTEND;VALUE=DATE:20220704
DTSTAMP:20260420T084831
CREATED:20190919T171740Z
LAST-MODIFIED:20220131T164114Z
UID:10225-1656460800-1656892799@petriraisanen.com
SUMMARY:My Yoga Shala\, Marseille\, France\, June 29-July 3\, 2022
DESCRIPTION:We are happy to announce a long weekend workshop at the Alexia’s shala in Marseille with a special program. It will be a summer time and the vibrant city\, harbours and beaches are waiting for the yogis. \nAlexia was translating (with a good help from Amina) my Nadi Sodhana (Intermediate series) book into French\, which came out in last summer 2021. On Saturday afternoon we will have a detailed class about the hidden techniques of the asanas in the second series! On Friday and Sunday there will be another subjects for the afternoon technique classes about the art of the asana adjustments and building strength through the acrobatic asanas. It will be challenging and fun. \nWelcome to practice..all levels\, body types\, ages\, genders\, colours\, views and opinions! \nBig hugs\, \nPetri and Alexia \nPhoto by Elise in Marseille workshop 2021
URL:https://petriraisanen.com/event/marseille-france-december-6-8-2019/
CATEGORIES:Workshops
ATTACH;FMTTYPE=image/jpeg:https://petriraisanen.com/wp-content/uploads/2019/09/11-Petri.jpg
END:VEVENT
END:VCALENDAR