BEGIN:VCALENDAR
VERSION:2.0
PRODID:-//Petri Räisänen - ECPv6.15.11//NONSGML v1.0//EN
CALSCALE:GREGORIAN
METHOD:PUBLISH
X-ORIGINAL-URL:https://petriraisanen.com
X-WR-CALDESC:Events for Petri Räisänen
REFRESH-INTERVAL;VALUE=DURATION:PT1H
X-Robots-Tag:noindex
X-PUBLISHED-TTL:PT1H
BEGIN:VTIMEZONE
TZID:UTC
BEGIN:STANDARD
TZOFFSETFROM:+0000
TZOFFSETTO:+0000
TZNAME:UTC
DTSTART:20240101T000000
END:STANDARD
END:VTIMEZONE
BEGIN:VEVENT
DTSTART;VALUE=DATE:20250228
DTEND;VALUE=DATE:20250304
DTSTAMP:20260419T154028
CREATED:20241126T133732Z
LAST-MODIFIED:20241126T133732Z
UID:13925-1740700800-1741046399@petriraisanen.com
SUMMARY:Ashtanga Yoga Uppsala\, Sweden\, February 28 - March 3\, 2025
DESCRIPTION:Welcome to the old Viking kings town to practice Ashtanga Yoga. We have been teaching together with Anne-Lie for about 20 years and still going strong : ) Uppsala is a beautiful old univercity town with a river in the middle\, cosy cafes\, bakeries\, restaurants and lots of green around. \nWe will start on Friday morning and finish on Monday morning. \nCome to practice and experience the warmest yoga shala in the European winter! \nBig hugs\, \nPetri and Anne-Lie
URL:https://petriraisanen.com/event/ashtanga-yoga-uppsala-sweden-february-28-march-3-2025/
CATEGORIES:Workshops
ATTACH;FMTTYPE=image/jpeg:https://petriraisanen.com/wp-content/uploads/2024/11/Uppsala-2022-scaled.jpg
END:VEVENT
BEGIN:VEVENT
DTSTART;VALUE=DATE:20250307
DTEND;VALUE=DATE:20250310
DTSTAMP:20260419T154028
CREATED:20241126T140447Z
LAST-MODIFIED:20241126T140532Z
UID:13931-1741305600-1741564799@petriraisanen.com
SUMMARY:Ashtanga Yogashala Gothenburg\, Sweden\, March 7-9\, 2025
DESCRIPTION:Ashtanga Yogashala Gothenburg moved last summer to the new location. The local teacher Carolina has a great sense for teaching and creating a friendly and safe environment to the shala. This will be my first workshop at the new shala. Anyhow the history of our collaboration with Ashtanga Yogashala started more than 20 years ago. Gothenburg is an easy going town with a beautiful Haga area and around with nice vegetarian restaurants\, cafes and bakeries. \nWe will start the workshop on Friday morning and finish on Sunday afternoon. \nWelcome to practice and enjoy the cosy new shala. \nBig hugs\, \nPetri and Carolina \n  \nPicture from the old shala : )
URL:https://petriraisanen.com/event/ashtanga-yogashala-gothenburg-sweden-march-7-9-2025/
CATEGORIES:Workshops
ATTACH;FMTTYPE=image/jpeg:https://petriraisanen.com/wp-content/uploads/2024/11/IMG_8595.jpg
END:VEVENT
BEGIN:VEVENT
DTSTART;VALUE=DATE:20250314
DTEND;VALUE=DATE:20250318
DTSTAMP:20260419T154028
CREATED:20230426T155652Z
LAST-MODIFIED:20241126T141050Z
UID:12481-1741910400-1742255999@petriraisanen.com
SUMMARY:Puro Yoga\, Oslo\, Norway\, March 14-17\, 2025
DESCRIPTION:Puro is one of the oldest and strongest Ashtanga communities in Europe. It was build by Alexander Medin\, a famous Ashtangi and Sanskrit/philosophy scholar from Oslo with Astrid Riddervold. Now run by Pernille Bønkan\, a long time Ashtangini and Puro Yoga teacher. \nIt is my pleasure to teach a workshop again and shear the knowledge of this beautiful practice with peace and caring touch. \nWelcome to practice and feel the energy of the Ashtanga yoga! \nWarm hugs\, \nPetri and Pernille \nPhoto by Petri at Oslo central sauna section in November 14 2022
URL:https://petriraisanen.com/event/puro-yoga-oslo-norway-december-1-3-2023/
CATEGORIES:Workshops
ATTACH;FMTTYPE=image/jpeg:https://petriraisanen.com/wp-content/uploads/2023/04/Oslo-2024-scaled.jpg
END:VEVENT
END:VCALENDAR